BEGIN:VCALENDAR
VERSION:2.0
PRODID:-//Le Port de Fribourg - ECPv6.15.20//NONSGML v1.0//EN
CALSCALE:GREGORIAN
METHOD:PUBLISH
X-ORIGINAL-URL:https://leport.ch
X-WR-CALDESC:Évènements pour Le Port de Fribourg
REFRESH-INTERVAL;VALUE=DURATION:PT1H
X-Robots-Tag:noindex
X-PUBLISHED-TTL:PT1H
BEGIN:VTIMEZONE
TZID:Europe/Paris
BEGIN:DAYLIGHT
TZOFFSETFROM:+0100
TZOFFSETTO:+0200
TZNAME:CEST
DTSTART:20250330T010000
END:DAYLIGHT
BEGIN:STANDARD
TZOFFSETFROM:+0200
TZOFFSETTO:+0100
TZNAME:CET
DTSTART:20251026T010000
END:STANDARD
BEGIN:DAYLIGHT
TZOFFSETFROM:+0100
TZOFFSETTO:+0200
TZNAME:CEST
DTSTART:20260329T010000
END:DAYLIGHT
BEGIN:STANDARD
TZOFFSETFROM:+0200
TZOFFSETTO:+0100
TZNAME:CET
DTSTART:20261025T010000
END:STANDARD
BEGIN:DAYLIGHT
TZOFFSETFROM:+0100
TZOFFSETTO:+0200
TZNAME:CEST
DTSTART:20270328T010000
END:DAYLIGHT
BEGIN:STANDARD
TZOFFSETFROM:+0200
TZOFFSETTO:+0100
TZNAME:CET
DTSTART:20271031T010000
END:STANDARD
END:VTIMEZONE
BEGIN:VEVENT
DTSTART;TZID=Europe/Paris:20260517T093000
DTEND;TZID=Europe/Paris:20260517T103000
DTSTAMP:20260421T055311
CREATED:20260212T073700Z
LAST-MODIFIED:20260420T102039Z
UID:10003478-1779010200-1779013800@leport.ch
SUMMARY:Yoga Morning Flow
DESCRIPTION:
URL:https://leport.ch/event/yoga-morning-flow/2026-05-17/
CATEGORIES:Expériences Collectives
ATTACH;FMTTYPE=image/jpeg:https://leport.ch/wp-content/uploads/2026/02/IMG_6326.jpg
END:VEVENT
BEGIN:VEVENT
DTSTART;TZID=Europe/Paris:20260517T110000
DTEND;TZID=Europe/Paris:20260517T170000
DTSTAMP:20260421T055311
CREATED:20260305T080659Z
LAST-MODIFIED:20260420T101817Z
UID:10003671-1779015600-1779037200@leport.ch
SUMMARY:Vide-dressing
DESCRIPTION:
URL:https://leport.ch/event/vide-dressing-2/2026-05-17/
CATEGORIES:Marchés
ATTACH;FMTTYPE=image/jpeg:https://leport.ch/wp-content/uploads/2026/02/IMG20230521111118.jpg
END:VEVENT
BEGIN:VEVENT
DTSTART;TZID=Europe/Paris:20260517T133000
DTEND;TZID=Europe/Paris:20260517T163000
DTSTAMP:20260421T055311
CREATED:20260420T101801Z
LAST-MODIFIED:20260420T101801Z
UID:10003676-1779024600-1779035400@leport.ch
SUMMARY:Massage des mains
DESCRIPTION:
URL:https://leport.ch/event/massage-des-mains-2/2026-05-17/
CATEGORIES:Expériences Collectives
ATTACH;FMTTYPE=image/jpeg:https://leport.ch/wp-content/uploads/2026/02/Massage_mains.jpg
END:VEVENT
BEGIN:VEVENT
DTSTART;TZID=Europe/Paris:20260517T140000
DTEND;TZID=Europe/Paris:20260517T150000
DTSTAMP:20260421T055311
CREATED:20260420T101743Z
LAST-MODIFIED:20260420T101743Z
UID:10003791-1779026400-1779030000@leport.ch
SUMMARY:Concert de la Chorale Anarchiste de Fribourg
DESCRIPTION:
URL:https://leport.ch/event/concert-de-la-chorale-anarchiste-de-fribourg/
CATEGORIES:Scène
ATTACH;FMTTYPE=image/jpeg:https://leport.ch/wp-content/uploads/2026/02/DSCF4864b-scaled.jpg
END:VEVENT
END:VCALENDAR