BEGIN:VCALENDAR
VERSION:2.0
PRODID:-//Le Port de Fribourg - ECPv6.15.20//NONSGML v1.0//EN
CALSCALE:GREGORIAN
METHOD:PUBLISH
X-ORIGINAL-URL:https://leport.ch
X-WR-CALDESC:Évènements pour Le Port de Fribourg
REFRESH-INTERVAL;VALUE=DURATION:PT1H
X-Robots-Tag:noindex
X-PUBLISHED-TTL:PT1H
BEGIN:VTIMEZONE
TZID:Europe/Paris
BEGIN:DAYLIGHT
TZOFFSETFROM:+0100
TZOFFSETTO:+0200
TZNAME:CEST
DTSTART:20250330T010000
END:DAYLIGHT
BEGIN:STANDARD
TZOFFSETFROM:+0200
TZOFFSETTO:+0100
TZNAME:CET
DTSTART:20251026T010000
END:STANDARD
BEGIN:DAYLIGHT
TZOFFSETFROM:+0100
TZOFFSETTO:+0200
TZNAME:CEST
DTSTART:20260329T010000
END:DAYLIGHT
BEGIN:STANDARD
TZOFFSETFROM:+0200
TZOFFSETTO:+0100
TZNAME:CET
DTSTART:20261025T010000
END:STANDARD
BEGIN:DAYLIGHT
TZOFFSETFROM:+0100
TZOFFSETTO:+0200
TZNAME:CEST
DTSTART:20270328T010000
END:DAYLIGHT
BEGIN:STANDARD
TZOFFSETFROM:+0200
TZOFFSETTO:+0100
TZNAME:CET
DTSTART:20271031T010000
END:STANDARD
END:VTIMEZONE
BEGIN:VEVENT
DTSTART;TZID=Europe/Paris:20260523T100000
DTEND;TZID=Europe/Paris:20260523T160000
DTSTAMP:20260421T025954
CREATED:20260420T101718Z
LAST-MODIFIED:20260420T101718Z
UID:10003868-1779530400-1779552000@leport.ch
SUMMARY:FÊTE DE LA NATURE: La biodiversité\, quésaco ? Testez-vous !
DESCRIPTION:
URL:https://leport.ch/event/fete-de-la-nature-la-biodiversite-quesaco-testez-vous/
CATEGORIES:Jardins
ATTACH;FMTTYPE=image/png:https://leport.ch/wp-content/uploads/2026/03/La-biodiversite-quesaco-Testez-vous-_2026-image-scaled.png
END:VEVENT
BEGIN:VEVENT
DTSTART;TZID=Europe/Paris:20260523T100000
DTEND;TZID=Europe/Paris:20260523T160000
DTSTAMP:20260421T025954
CREATED:20260420T101723Z
LAST-MODIFIED:20260420T101723Z
UID:10003694-1779530400-1779552000@leport.ch
SUMMARY:FÊTE DE LA NATURE: La grainothèque de MEMO au Port
DESCRIPTION:
URL:https://leport.ch/event/fete-de-la-nature-la-grainotheque-de-memo-au-port/
CATEGORIES:Jardins
ATTACH;FMTTYPE=image/jpeg:https://leport.ch/wp-content/uploads/2026/02/La-grainotheque-de-MEMO.jpeg
END:VEVENT
BEGIN:VEVENT
DTSTART;TZID=Europe/Paris:20260523T100000
DTEND;TZID=Europe/Paris:20260523T160000
DTSTAMP:20260421T025954
CREATED:20260420T101728Z
LAST-MODIFIED:20260420T101728Z
UID:10003691-1779530400-1779552000@leport.ch
SUMMARY:FÊTE DE LA NATURE: Bourse aux plantons
DESCRIPTION:
URL:https://leport.ch/event/fete-de-la-nature-bourse-aux-plantons/
CATEGORIES:Jardins
ATTACH;FMTTYPE=image/jpeg:https://leport.ch/wp-content/uploads/2026/02/Bourse-aux-plantons.jpg
END:VEVENT
BEGIN:VEVENT
DTSTART;TZID=Europe/Paris:20260523T103000
DTEND;TZID=Europe/Paris:20260523T120000
DTSTAMP:20260421T025954
CREATED:20260420T101713Z
LAST-MODIFIED:20260420T101713Z
UID:10003696-1779532200-1779537600@leport.ch
SUMMARY:FÊTE DE LA NATURE: Mandala de fleurs
DESCRIPTION:
URL:https://leport.ch/event/fete-de-la-nature-mandala-de-fleurs/
CATEGORIES:Jardins
ATTACH;FMTTYPE=image/png:https://leport.ch/wp-content/uploads/2026/02/Mandala-2026-scaled.png
END:VEVENT
BEGIN:VEVENT
DTSTART;TZID=Europe/Paris:20260523T133000
DTEND;TZID=Europe/Paris:20260523T143000
DTSTAMP:20260421T025954
CREATED:20260420T101708Z
LAST-MODIFIED:20260420T101708Z
UID:10003697-1779543000-1779546600@leport.ch
SUMMARY:FÊTE DE LA NATURE:  Sentiers des Savoirs
DESCRIPTION:
URL:https://leport.ch/event/fete-de-la-nature-sentiers-des-savoirs/
CATEGORIES:Jardins
ATTACH;FMTTYPE=image/jpeg:https://leport.ch/wp-content/uploads/2026/02/WhatsApp-Image-2025-10-07-at-16.24.08-3.jpeg
END:VEVENT
BEGIN:VEVENT
DTSTART;TZID=Europe/Paris:20260523T140000
DTEND;TZID=Europe/Paris:20260523T160000
DTSTAMP:20260421T025954
CREATED:20260420T101704Z
LAST-MODIFIED:20260420T101704Z
UID:10003695-1779544800-1779552000@leport.ch
SUMMARY:FÊTE DE LA NATURE: Les histoires d’Emilie
DESCRIPTION:
URL:https://leport.ch/event/fete-de-la-nature-les-histoires-demilie/
CATEGORIES:Jardins
ATTACH;FMTTYPE=image/jpeg:https://leport.ch/wp-content/uploads/2026/02/les-histoires-dEmilie.jpeg
END:VEVENT
BEGIN:VEVENT
DTSTART;TZID=Europe/Paris:20260523T143000
DTEND;TZID=Europe/Paris:20260523T153000
DTSTAMP:20260421T025954
CREATED:20260420T101659Z
LAST-MODIFIED:20260420T101659Z
UID:10003693-1779546600-1779550200@leport.ch
SUMMARY:FÊTE DE LA NATURE: Entdecken Sie die Pfade des Wissens
DESCRIPTION:
URL:https://leport.ch/event/fete-de-la-nature-entdecken-sie-die-pfade-des-wissens/
CATEGORIES:Jardins
ATTACH;FMTTYPE=image/jpeg:https://leport.ch/wp-content/uploads/2026/02/WhatsApp-Image-2025-10-07-at-16.24.08-3.jpeg
END:VEVENT
BEGIN:VEVENT
DTSTART;TZID=Europe/Paris:20260523T170000
DTEND;TZID=Europe/Paris:20260523T180000
DTSTAMP:20260421T025954
CREATED:20260420T101652Z
LAST-MODIFIED:20260420T101652Z
UID:10003698-1779555600-1779559200@leport.ch
SUMMARY:Les Madones
DESCRIPTION:
URL:https://leport.ch/event/les-madones/
CATEGORIES:Scène
ATTACH;FMTTYPE=image/jpeg:https://leport.ch/wp-content/uploads/2026/02/Photo-auberge-rouge.jpg
END:VEVENT
END:VCALENDAR