BEGIN:VCALENDAR
VERSION:2.0
PRODID:-//Le Port de Fribourg - ECPv6.15.20//NONSGML v1.0//EN
CALSCALE:GREGORIAN
METHOD:PUBLISH
X-ORIGINAL-URL:https://leport.ch
X-WR-CALDESC:Évènements pour Le Port de Fribourg
REFRESH-INTERVAL;VALUE=DURATION:PT1H
X-Robots-Tag:noindex
X-PUBLISHED-TTL:PT1H
BEGIN:VTIMEZONE
TZID:Europe/Paris
BEGIN:DAYLIGHT
TZOFFSETFROM:+0100
TZOFFSETTO:+0200
TZNAME:CEST
DTSTART:20250330T010000
END:DAYLIGHT
BEGIN:STANDARD
TZOFFSETFROM:+0200
TZOFFSETTO:+0100
TZNAME:CET
DTSTART:20251026T010000
END:STANDARD
BEGIN:DAYLIGHT
TZOFFSETFROM:+0100
TZOFFSETTO:+0200
TZNAME:CEST
DTSTART:20260329T010000
END:DAYLIGHT
BEGIN:STANDARD
TZOFFSETFROM:+0200
TZOFFSETTO:+0100
TZNAME:CET
DTSTART:20261025T010000
END:STANDARD
BEGIN:DAYLIGHT
TZOFFSETFROM:+0100
TZOFFSETTO:+0200
TZNAME:CEST
DTSTART:20270328T010000
END:DAYLIGHT
BEGIN:STANDARD
TZOFFSETFROM:+0200
TZOFFSETTO:+0100
TZNAME:CET
DTSTART:20271031T010000
END:STANDARD
END:VTIMEZONE
BEGIN:VEVENT
DTSTART;VALUE=DATE:20260830
DTEND;VALUE=DATE:20260907
DTSTAMP:20260425T153201
CREATED:20260420T094216Z
LAST-MODIFIED:20260420T094216Z
UID:10003753-1788051600-1788656399@leport.ch
SUMMARY:Tel00ge 2026
DESCRIPTION:
URL:https://leport.ch/event/tel00ge-2026/
CATEGORIES:Expériences Collectives
ATTACH;FMTTYPE=image/jpeg:https://leport.ch/wp-content/uploads/2026/02/IMG_3435-scaled.jpeg
END:VEVENT
BEGIN:VEVENT
DTSTART;TZID=Europe/Paris:20260830T093000
DTEND;TZID=Europe/Paris:20260830T103000
DTSTAMP:20260425T153202
CREATED:20260212T073700Z
LAST-MODIFIED:20260423T054956Z
UID:10003493-1788082200-1788085800@leport.ch
SUMMARY:Yoga Morning Flow
DESCRIPTION:
URL:https://leport.ch/event/yoga-morning-flow/2026-08-30/
CATEGORIES:Expériences Collectives
ATTACH;FMTTYPE=image/jpeg:https://leport.ch/wp-content/uploads/2026/02/IMG_6326.jpg
END:VEVENT
BEGIN:VEVENT
DTSTART;TZID=Europe/Paris:20260830T110000
DTEND;TZID=Europe/Paris:20260830T120000
DTSTAMP:20260425T153202
CREATED:20260420T094209Z
LAST-MODIFIED:20260420T094209Z
UID:10003752-1788087600-1788091200@leport.ch
SUMMARY:WEEK-END CAP SUR LES ENERGIES: Alimentation équilibrée sans carences nutritionnelles
DESCRIPTION:
URL:https://leport.ch/event/week-end-cap-sur-les-energies-alimentation-equilibree-sans-carences-nutritionnelles/
CATEGORIES:Expériences Collectives
ATTACH;FMTTYPE=image/jpeg:https://leport.ch/wp-content/uploads/2026/03/THD_5911-scaled.jpg
END:VEVENT
BEGIN:VEVENT
DTSTART;TZID=Europe/Paris:20260830T110000
DTEND;TZID=Europe/Paris:20260830T170000
DTSTAMP:20260425T153202
CREATED:20260420T101632Z
LAST-MODIFIED:20260420T101632Z
UID:10003675-1788087600-1788109200@leport.ch
SUMMARY:Marché aux puces
DESCRIPTION:
URL:https://leport.ch/event/marche-aux-puces/2026-08-30/
CATEGORIES:Marchés
ATTACH;FMTTYPE=image/jpeg:https://leport.ch/wp-content/uploads/2026/02/Capture-decran-2025-04-17-094629.jpg
END:VEVENT
BEGIN:VEVENT
DTSTART;TZID=Europe/Paris:20260830T130000
DTEND;TZID=Europe/Paris:20260830T170000
DTSTAMP:20260425T153202
CREATED:20260420T094134Z
LAST-MODIFIED:20260420T094134Z
UID:10003874-1788094800-1788109200@leport.ch
SUMMARY:WEEK-END CAP SUR LES ENERGIES: Réflexologie générale
DESCRIPTION:
URL:https://leport.ch/event/week-end-cap-sur-les-energies-reflexologie-generale/2026-08-30/
CATEGORIES:Expériences Collectives
ATTACH;FMTTYPE=image/png:https://leport.ch/wp-content/uploads/2026/02/thumbnail_Logo-Reflexologie-Fribourg.png
END:VEVENT
BEGIN:VEVENT
DTSTART;TZID=Europe/Paris:20260830T130000
DTEND;TZID=Europe/Paris:20260830T170000
DTSTAMP:20260425T153202
CREATED:20260420T094200Z
LAST-MODIFIED:20260420T094200Z
UID:10003869-1788094800-1788109200@leport.ch
SUMMARY:WEEK-END CAP SUR LES ENERGIES: Massage assis
DESCRIPTION:
URL:https://leport.ch/event/week-end-cap-sur-les-energies-massage-assis/2026-08-30/
CATEGORIES:Expériences Collectives
ATTACH;FMTTYPE=image/png:https://leport.ch/wp-content/uploads/2026/02/Massage-en-plein-air-detendue-1.png
END:VEVENT
BEGIN:VEVENT
DTSTART;TZID=Europe/Paris:20260830T140000
DTEND;TZID=Europe/Paris:20260830T153000
DTSTAMP:20260425T153202
CREATED:20260420T094155Z
LAST-MODIFIED:20260420T094155Z
UID:10003750-1788098400-1788103800@leport.ch
SUMMARY:WEEK-END CAP SUR LES ENERGIES: Intuition et médiumnité
DESCRIPTION:
URL:https://leport.ch/event/week-end-cap-sur-les-energies-intuition-et-mediumnite/
CATEGORIES:Expériences Collectives
ATTACH;FMTTYPE=application/pdf:https://leport.ch/wp-content/uploads/2026/02/AD-Logo-Vertical-bleu-1.pdf
END:VEVENT
BEGIN:VEVENT
DTSTART;TZID=Europe/Paris:20260830T160000
DTEND;TZID=Europe/Paris:20260830T170000
DTSTAMP:20260425T153202
CREATED:20260420T094148Z
LAST-MODIFIED:20260420T094148Z
UID:10003749-1788105600-1788109200@leport.ch
SUMMARY:WEEK-END CAP SUR LES ENERGIES: Détecter les influences négatives dans l’habitat ?
DESCRIPTION:
URL:https://leport.ch/event/week-end-cap-sur-les-energies-detecter-les-influences-negatives-dans-lhabitat/
ATTACH;FMTTYPE=image/jpeg:https://leport.ch/wp-content/uploads/2026/02/Terre-de-lumiere_Logo_noir_011-scaled.jpg
END:VEVENT
END:VCALENDAR