BEGIN:VCALENDAR
VERSION:2.0
PRODID:-//Le Port de Fribourg - ECPv6.15.20//NONSGML v1.0//EN
CALSCALE:GREGORIAN
METHOD:PUBLISH
X-ORIGINAL-URL:https://leport.ch
X-WR-CALDESC:Évènements pour Le Port de Fribourg
REFRESH-INTERVAL;VALUE=DURATION:PT1H
X-Robots-Tag:noindex
X-PUBLISHED-TTL:PT1H
BEGIN:VTIMEZONE
TZID:Europe/Paris
BEGIN:DAYLIGHT
TZOFFSETFROM:+0100
TZOFFSETTO:+0200
TZNAME:CEST
DTSTART:20250330T010000
END:DAYLIGHT
BEGIN:STANDARD
TZOFFSETFROM:+0200
TZOFFSETTO:+0100
TZNAME:CET
DTSTART:20251026T010000
END:STANDARD
BEGIN:DAYLIGHT
TZOFFSETFROM:+0100
TZOFFSETTO:+0200
TZNAME:CEST
DTSTART:20260329T010000
END:DAYLIGHT
BEGIN:STANDARD
TZOFFSETFROM:+0200
TZOFFSETTO:+0100
TZNAME:CET
DTSTART:20261025T010000
END:STANDARD
BEGIN:DAYLIGHT
TZOFFSETFROM:+0100
TZOFFSETTO:+0200
TZNAME:CEST
DTSTART:20270328T010000
END:DAYLIGHT
BEGIN:STANDARD
TZOFFSETFROM:+0200
TZOFFSETTO:+0100
TZNAME:CET
DTSTART:20271031T010000
END:STANDARD
END:VTIMEZONE
BEGIN:VEVENT
DTSTART;VALUE=DATE:20260830
DTEND;VALUE=DATE:20260907
DTSTAMP:20260425T125424
CREATED:20260420T094216Z
LAST-MODIFIED:20260420T094216Z
UID:10003753-1788051600-1788656399@leport.ch
SUMMARY:Tel00ge 2026
DESCRIPTION:
URL:https://leport.ch/event/tel00ge-2026/
CATEGORIES:Expériences Collectives
ATTACH;FMTTYPE=image/jpeg:https://leport.ch/wp-content/uploads/2026/02/IMG_3435-scaled.jpeg
END:VEVENT
BEGIN:VEVENT
DTSTART;TZID=Europe/Paris:20260902T140000
DTEND;TZID=Europe/Paris:20260902T153000
DTSTAMP:20260425T125424
CREATED:20260420T094126Z
LAST-MODIFIED:20260420T094126Z
UID:10003862-1788357600-1788363000@leport.ch
SUMMARY:ATELIER DES JARDINS: Upcycling: Bouchons en liège
DESCRIPTION:
URL:https://leport.ch/event/atelier-des-jardins-upcycling-bouchons-en-liege/
CATEGORIES:Jardins
ATTACH;FMTTYPE=image/jpeg:https://leport.ch/wp-content/uploads/2026/02/Bouchons-de-lieges.jpg
END:VEVENT
BEGIN:VEVENT
DTSTART;TZID=Europe/Paris:20260902T140000
DTEND;TZID=Europe/Paris:20260902T160000
DTSTAMP:20260425T125424
CREATED:20260420T094118Z
LAST-MODIFIED:20260420T094118Z
UID:10003876-1788357600-1788364800@leport.ch
SUMMARY:ATELIER DES JARDINS: Upcycling: Broderie rebelles et végétales
DESCRIPTION:
URL:https://leport.ch/event/atelier-des-jardins-upcycling-broderie-rebelles-et-vegetales/
CATEGORIES:Jardins
ATTACH;FMTTYPE=image/jpeg:https://leport.ch/wp-content/uploads/2026/03/Broderie-militante-5.jpg
END:VEVENT
BEGIN:VEVENT
DTSTART;TZID=Europe/Paris:20260902T153000
DTEND;TZID=Europe/Paris:20260902T163000
DTSTAMP:20260425T125424
CREATED:20260420T094109Z
LAST-MODIFIED:20260420T094109Z
UID:10003864-1788363000-1788366600@leport.ch
SUMMARY:ATELIER DES JARDINS: Upcycling: Des verres de bouteilles
DESCRIPTION:
URL:https://leport.ch/event/atelier-des-jardins-upcycling-des-verres-de-bouteilles/
CATEGORIES:Jardins
ATTACH;FMTTYPE=image/jpeg:https://leport.ch/wp-content/uploads/2026/02/Verres-de-bouteilles.jpg
END:VEVENT
BEGIN:VEVENT
DTSTART;TZID=Europe/Paris:20260902T160000
DTEND;TZID=Europe/Paris:20260902T180000
DTSTAMP:20260425T125424
CREATED:20260420T102025Z
LAST-MODIFIED:20260420T102025Z
UID:10003589-1788364800-1788372000@leport.ch
SUMMARY:Papier végétal
DESCRIPTION:
URL:https://leport.ch/event/papier-vegetal-2/2026-09-02/
CATEGORIES:Jardins
ATTACH;FMTTYPE=image/jpeg:https://leport.ch/wp-content/uploads/2026/02/Faire-son-papier-vegetal_1-scaled.jpg
END:VEVENT
BEGIN:VEVENT
DTSTART;TZID=Europe/Paris:20260902T163000
DTEND;TZID=Europe/Paris:20260902T180000
DTSTAMP:20260425T125424
CREATED:20260420T094100Z
LAST-MODIFIED:20260420T094100Z
UID:10003863-1788366600-1788372000@leport.ch
SUMMARY:ATELIER DES JARDINS: Upcycling: Avec rien on fait de tout
DESCRIPTION:
URL:https://leport.ch/event/atelier-des-jardins-upcycling-avec-rien-on-fait-de-tout/
CATEGORIES:Jardins
ATTACH;FMTTYPE=image/jpeg:https://leport.ch/wp-content/uploads/2026/02/Avec-rien-on-fait-de-totu.jpg
END:VEVENT
BEGIN:VEVENT
DTSTART;TZID=Europe/Paris:20260902T200000
DTEND;TZID=Europe/Paris:20260902T200000
DTSTAMP:20260425T125424
CREATED:20260420T102018Z
LAST-MODIFIED:20260420T102018Z
UID:10003808-1788379200-1788379200@leport.ch
SUMMARY:Atelier découverte de la céramique
DESCRIPTION:
URL:https://leport.ch/event/atelier-decouverte-de-la-ceramique/2026-09-02/
CATEGORIES:Expériences Collectives
ATTACH;FMTTYPE=image/jpeg:https://leport.ch/wp-content/uploads/2026/02/ceramique.jpg
END:VEVENT
END:VCALENDAR