BEGIN:VCALENDAR
VERSION:2.0
PRODID:-//Le Port de Fribourg - ECPv6.15.20//NONSGML v1.0//EN
CALSCALE:GREGORIAN
METHOD:PUBLISH
X-WR-CALNAME:Le Port de Fribourg
X-ORIGINAL-URL:https://leport.ch
X-WR-CALDESC:Évènements pour Le Port de Fribourg
REFRESH-INTERVAL;VALUE=DURATION:PT1H
X-Robots-Tag:noindex
X-PUBLISHED-TTL:PT1H
BEGIN:VTIMEZONE
TZID:Europe/Paris
BEGIN:DAYLIGHT
TZOFFSETFROM:+0100
TZOFFSETTO:+0200
TZNAME:CEST
DTSTART:20250330T010000
END:DAYLIGHT
BEGIN:STANDARD
TZOFFSETFROM:+0200
TZOFFSETTO:+0100
TZNAME:CET
DTSTART:20251026T010000
END:STANDARD
BEGIN:DAYLIGHT
TZOFFSETFROM:+0100
TZOFFSETTO:+0200
TZNAME:CEST
DTSTART:20260329T010000
END:DAYLIGHT
BEGIN:STANDARD
TZOFFSETFROM:+0200
TZOFFSETTO:+0100
TZNAME:CET
DTSTART:20261025T010000
END:STANDARD
BEGIN:DAYLIGHT
TZOFFSETFROM:+0100
TZOFFSETTO:+0200
TZNAME:CEST
DTSTART:20270328T010000
END:DAYLIGHT
BEGIN:STANDARD
TZOFFSETFROM:+0200
TZOFFSETTO:+0100
TZNAME:CET
DTSTART:20271031T010000
END:STANDARD
END:VTIMEZONE
BEGIN:VEVENT
DTSTART;VALUE=DATE:20260830
DTEND;VALUE=DATE:20260907
DTSTAMP:20260425T125432
CREATED:20260420T094216Z
LAST-MODIFIED:20260420T094216Z
UID:10003753-1788051600-1788656399@leport.ch
SUMMARY:Tel00ge 2026
DESCRIPTION:
URL:https://leport.ch/event/tel00ge-2026/
CATEGORIES:Expériences Collectives
ATTACH;FMTTYPE=image/jpeg:https://leport.ch/wp-content/uploads/2026/02/IMG_3435-scaled.jpeg
END:VEVENT
BEGIN:VEVENT
DTSTART;TZID=Europe/Paris:20260905T110000
DTEND;TZID=Europe/Paris:20260905T114500
DTSTAMP:20260425T125432
CREATED:20260420T094029Z
LAST-MODIFIED:20260420T094052Z
UID:10003785-1788606000-1788608700@leport.ch
SUMMARY:FETES DES RECOLTES: Récolte et conservation des graines
DESCRIPTION:
URL:https://leport.ch/event/fetes-des-recoltes-recolte-et-conservation-des-graines/
CATEGORIES:Jardins
ATTACH;FMTTYPE=image/jpeg:https://leport.ch/wp-content/uploads/2026/02/Recolte-des-graines.jpg
END:VEVENT
BEGIN:VEVENT
DTSTART;TZID=Europe/Paris:20260905T110000
DTEND;TZID=Europe/Paris:20260905T130000
DTSTAMP:20260425T125432
CREATED:20260420T094037Z
LAST-MODIFIED:20260420T094047Z
UID:10003786-1788606000-1788613200@leport.ch
SUMMARY:FETES DES RECOLTES: Soupe des récoltes
DESCRIPTION:
URL:https://leport.ch/event/fetes-des-recoltes-soupe-des-recoltes/
CATEGORIES:Jardins
ATTACH;FMTTYPE=image/jpeg:https://leport.ch/wp-content/uploads/2026/02/Soupe-des-recoltes-scaled.jpg
END:VEVENT
BEGIN:VEVENT
DTSTART;TZID=Europe/Paris:20260905T133000
DTEND;TZID=Europe/Paris:20260905T143000
DTSTAMP:20260425T125432
CREATED:20260420T094005Z
LAST-MODIFIED:20260420T094042Z
UID:10003784-1788615000-1788618600@leport.ch
SUMMARY:FETES DES RECOLTES:  Pressage de pommes
DESCRIPTION:
URL:https://leport.ch/event/fetes-des-recoltes-pressage-de-pommes/
CATEGORIES:Jardins
ATTACH;FMTTYPE=image/jpeg:https://leport.ch/wp-content/uploads/2026/02/Pressage-de-pommes-scaled.jpg
END:VEVENT
BEGIN:VEVENT
DTSTART;TZID=Europe/Paris:20260905T143000
DTEND;TZID=Europe/Paris:20260905T153000
DTSTAMP:20260425T125432
CREATED:20260420T093958Z
LAST-MODIFIED:20260420T093958Z
UID:10003780-1788618600-1788622200@leport.ch
SUMMARY:FETES DES RECOLTES: Bar à tisane
DESCRIPTION:
URL:https://leport.ch/event/fetes-des-recoltes-bar-a-tisane/
CATEGORIES:Jardins
ATTACH;FMTTYPE=image/jpeg:https://leport.ch/wp-content/uploads/2026/02/Bar-a-tisanes_2026.jpg
END:VEVENT
BEGIN:VEVENT
DTSTART;TZID=Europe/Paris:20260905T163000
DTEND;TZID=Europe/Paris:20260905T180000
DTSTAMP:20260425T125432
CREATED:20260420T093949Z
LAST-MODIFIED:20260420T093949Z
UID:10003789-1788625800-1788631200@leport.ch
SUMMARY:FETES DES RECOLTES: vibrENSEMBLE (Cercle de chant)
DESCRIPTION:
URL:https://leport.ch/event/fetes-des-recoltes-vibrensemble-cercle-de-chant/
CATEGORIES:Expériences Collectives,Jardins
ATTACH;FMTTYPE=image/jpeg:https://leport.ch/wp-content/uploads/2026/02/vibrENSEMBLE_cercle-de-chant_jardin-botanique_2025-08.jpeg
END:VEVENT
END:VCALENDAR