BEGIN:VCALENDAR
VERSION:2.0
PRODID:-//Le Port de Fribourg - ECPv6.15.20//NONSGML v1.0//EN
CALSCALE:GREGORIAN
METHOD:PUBLISH
X-ORIGINAL-URL:https://leport.ch
X-WR-CALDESC:Évènements pour Le Port de Fribourg
REFRESH-INTERVAL;VALUE=DURATION:PT1H
X-Robots-Tag:noindex
X-PUBLISHED-TTL:PT1H
BEGIN:VTIMEZONE
TZID:Europe/Paris
BEGIN:DAYLIGHT
TZOFFSETFROM:+0100
TZOFFSETTO:+0200
TZNAME:CEST
DTSTART:20250330T010000
END:DAYLIGHT
BEGIN:STANDARD
TZOFFSETFROM:+0200
TZOFFSETTO:+0100
TZNAME:CET
DTSTART:20251026T010000
END:STANDARD
BEGIN:DAYLIGHT
TZOFFSETFROM:+0100
TZOFFSETTO:+0200
TZNAME:CEST
DTSTART:20260329T010000
END:DAYLIGHT
BEGIN:STANDARD
TZOFFSETFROM:+0200
TZOFFSETTO:+0100
TZNAME:CET
DTSTART:20261025T010000
END:STANDARD
BEGIN:DAYLIGHT
TZOFFSETFROM:+0100
TZOFFSETTO:+0200
TZNAME:CEST
DTSTART:20270328T010000
END:DAYLIGHT
BEGIN:STANDARD
TZOFFSETFROM:+0200
TZOFFSETTO:+0100
TZNAME:CET
DTSTART:20271031T010000
END:STANDARD
END:VTIMEZONE
BEGIN:VEVENT
DTSTART;TZID=Europe/Paris:20260601T180000
DTEND;TZID=Europe/Paris:20260601T210000
DTSTAMP:20260421T001118
CREATED:20260420T101750Z
LAST-MODIFIED:20260420T101750Z
UID:10003685-1780336800-1780347600@leport.ch
SUMMARY:ATELTEUF : réparation de vêtements
DESCRIPTION:
URL:https://leport.ch/event/atelteuf-reparation-de-vetements/2026-06-01/
CATEGORIES:Expériences Collectives
ATTACH;FMTTYPE=image/jpeg:https://leport.ch/wp-content/uploads/2026/02/photo_5850405027145958529_x.jpg
END:VEVENT
BEGIN:VEVENT
DTSTART;TZID=Europe/Paris:20260602T170000
DTEND;TZID=Europe/Paris:20260602T183000
DTSTAMP:20260421T001118
CREATED:20260420T101737Z
LAST-MODIFIED:20260420T101737Z
UID:10003756-1780419600-1780425000@leport.ch
SUMMARY:Broder ses envies
DESCRIPTION:
URL:https://leport.ch/event/broder-ses-envies/2026-06-02/
CATEGORIES:Expériences Collectives
ATTACH;FMTTYPE=image/jpeg:https://leport.ch/wp-content/uploads/2026/02/Screenshot_20260205_120822_Chrome-scaled.jpg
END:VEVENT
BEGIN:VEVENT
DTSTART;TZID=Europe/Paris:20260602T180000
DTEND;TZID=Europe/Paris:20260602T183000
DTSTAMP:20260421T001118
CREATED:20260420T101622Z
LAST-MODIFIED:20260420T101622Z
UID:10003701-1780423200-1780425000@leport.ch
SUMMARY:Alexandre Cellier et le groupe de chanteurs "Musiques et joies sans frontière"
DESCRIPTION:
URL:https://leport.ch/event/alexandre-cellier-et-le-groupe-de-chanteurs-musiques-et-joies-sans-frontiere/
CATEGORIES:Scène
ATTACH;FMTTYPE=image/jpeg:https://leport.ch/wp-content/uploads/2026/02/alexandre_cellier.jpg
END:VEVENT
BEGIN:VEVENT
DTSTART;TZID=Europe/Paris:20260602T190000
DTEND;TZID=Europe/Paris:20260602T203000
DTSTAMP:20260421T001118
CREATED:20260420T101616Z
LAST-MODIFIED:20260420T101616Z
UID:10003703-1780426800-1780432200@leport.ch
SUMMARY:Bibliothèque vivante : talents d’ici et d’ailleurs
DESCRIPTION:
URL:https://leport.ch/event/bibliotheque-vivante-talents-dici-et-dailleurs/
CATEGORIES:Expériences Collectives
ATTACH;FMTTYPE=image/jpeg:https://leport.ch/wp-content/uploads/2026/02/image_Librairie-vivante.jpeg
END:VEVENT
BEGIN:VEVENT
DTSTART;TZID=Europe/Paris:20260603T140000
DTEND;TZID=Europe/Paris:20260603T163000
DTSTAMP:20260421T001118
CREATED:20260420T101604Z
LAST-MODIFIED:20260420T101604Z
UID:10003765-1780495200-1780504200@leport.ch
SUMMARY:ATELIER DES JARDINS: Biodiversité: La biodiversité\, c’est la vie !
DESCRIPTION:
URL:https://leport.ch/event/atelier-des-jardins-biodiversite-la-biodiversite-cest-la-vie/
CATEGORIES:Jardins
ATTACH;FMTTYPE=image/jpeg:https://leport.ch/wp-content/uploads/2026/02/LABIOD1-scaled.jpg
END:VEVENT
BEGIN:VEVENT
DTSTART;TZID=Europe/Paris:20260603T150000
DTEND;TZID=Europe/Paris:20260603T180000
DTSTAMP:20260421T001118
CREATED:20260420T094658Z
LAST-MODIFIED:20260420T094658Z
UID:10003766-1780498800-1780509600@leport.ch
SUMMARY:ATELIER DES JARDINS: Biodiversité: Visite guidée des jardins
DESCRIPTION:
URL:https://leport.ch/event/atelier-des-jardins-biodiversite-visite-guidee-des-jardins/
CATEGORIES:Jardins
ATTACH;FMTTYPE=image/jpeg:https://leport.ch/wp-content/uploads/2026/02/VISITE1-scaled.jpg
END:VEVENT
BEGIN:VEVENT
DTSTART;TZID=Europe/Paris:20260603T160000
DTEND;TZID=Europe/Paris:20260603T180000
DTSTAMP:20260421T001118
CREATED:20260420T102025Z
LAST-MODIFIED:20260420T102025Z
UID:10003576-1780502400-1780509600@leport.ch
SUMMARY:Papier végétal
DESCRIPTION:
URL:https://leport.ch/event/papier-vegetal-2/2026-06-03/
CATEGORIES:Jardins
ATTACH;FMTTYPE=image/jpeg:https://leport.ch/wp-content/uploads/2026/02/Faire-son-papier-vegetal_1-scaled.jpg
END:VEVENT
BEGIN:VEVENT
DTSTART;TZID=Europe/Paris:20260603T200000
DTEND;TZID=Europe/Paris:20260603T200000
DTSTAMP:20260421T001118
CREATED:20260420T102018Z
LAST-MODIFIED:20260420T102018Z
UID:10003795-1780516800-1780516800@leport.ch
SUMMARY:Atelier découverte de la céramique
DESCRIPTION:
URL:https://leport.ch/event/atelier-decouverte-de-la-ceramique/2026-06-03/
CATEGORIES:Expériences Collectives
ATTACH;FMTTYPE=image/jpeg:https://leport.ch/wp-content/uploads/2026/02/ceramique.jpg
END:VEVENT
BEGIN:VEVENT
DTSTART;TZID=Europe/Paris:20260604T110000
DTEND;TZID=Europe/Paris:20260604T120000
DTSTAMP:20260421T001118
CREATED:20260420T094652Z
LAST-MODIFIED:20260420T094652Z
UID:10003712-1780570800-1780574400@leport.ch
SUMMARY:Des histoires pour célébrer l’altérité
DESCRIPTION:
URL:https://leport.ch/event/des-histoires-pour-celebrer-lalterite/
CATEGORIES:Expériences Collectives
ATTACH;FMTTYPE=image/jpeg:https://leport.ch/wp-content/uploads/2026/02/Histoire_Mary.jpg
END:VEVENT
BEGIN:VEVENT
DTSTART;TZID=Europe/Paris:20260604T190000
DTEND;TZID=Europe/Paris:20260604T213000
DTSTAMP:20260421T001118
CREATED:20260420T094647Z
LAST-MODIFIED:20260420T094647Z
UID:10003704-1780599600-1780608600@leport.ch
SUMMARY:Initiation au Lindy hop
DESCRIPTION:
URL:https://leport.ch/event/initiation-au-lindy-hop-2/2026-06-04/
CATEGORIES:Expériences Collectives
ATTACH;FMTTYPE=image/jpeg:https://leport.ch/wp-content/uploads/2026/02/257A9515-scaled.jpg
END:VEVENT
BEGIN:VEVENT
DTSTART;TZID=Europe/Paris:20260605T090000
DTEND;TZID=Europe/Paris:20260605T090000
DTSTAMP:20260421T001118
CREATED:20260420T101826Z
LAST-MODIFIED:20260420T101826Z
UID:10003604-1780650000-1780650000@leport.ch
SUMMARY:Taï-chi
DESCRIPTION:
URL:https://leport.ch/event/tai-chi-2/2026-06-05/
CATEGORIES:Expériences Collectives
ATTACH;FMTTYPE=image/jpeg:https://leport.ch/wp-content/uploads/2026/02/Tai-Chi_Photo.jpg
END:VEVENT
BEGIN:VEVENT
DTSTART;TZID=Europe/Paris:20260606T110000
DTEND;TZID=Europe/Paris:20260606T114500
DTSTAMP:20260421T001118
CREATED:20260420T094703Z
LAST-MODIFIED:20260420T094703Z
UID:10003714-1780743600-1780746300@leport.ch
SUMMARY:Atelier « La Valise Magique »
DESCRIPTION:
URL:https://leport.ch/event/atelier-la-valise-magique/2026-06-06/
CATEGORIES:Expériences Collectives
ATTACH;FMTTYPE=image/jpeg:https://leport.ch/wp-content/uploads/2026/02/018e99a3-ea7e-4eed-b98f-fc02dc374733.jpeg
END:VEVENT
BEGIN:VEVENT
DTSTART;TZID=Europe/Paris:20260607T093000
DTEND;TZID=Europe/Paris:20260607T103000
DTSTAMP:20260421T001118
CREATED:20260212T073700Z
LAST-MODIFIED:20260420T102039Z
UID:10003481-1780824600-1780828200@leport.ch
SUMMARY:Yoga Morning Flow
DESCRIPTION:
URL:https://leport.ch/event/yoga-morning-flow/2026-06-07/
CATEGORIES:Expériences Collectives
ATTACH;FMTTYPE=image/jpeg:https://leport.ch/wp-content/uploads/2026/02/IMG_6326.jpg
END:VEVENT
BEGIN:VEVENT
DTSTART;TZID=Europe/Paris:20260607T133000
DTEND;TZID=Europe/Paris:20260607T163000
DTSTAMP:20260421T001118
CREATED:20260420T101801Z
LAST-MODIFIED:20260420T101801Z
UID:10003678-1780839000-1780849800@leport.ch
SUMMARY:Massage des mains
DESCRIPTION:
URL:https://leport.ch/event/massage-des-mains-2/2026-06-07/
CATEGORIES:Expériences Collectives
ATTACH;FMTTYPE=image/jpeg:https://leport.ch/wp-content/uploads/2026/02/Massage_mains.jpg
END:VEVENT
BEGIN:VEVENT
DTSTART;TZID=Europe/Paris:20260610T160000
DTEND;TZID=Europe/Paris:20260610T180000
DTSTAMP:20260421T001118
CREATED:20260420T102025Z
LAST-MODIFIED:20260420T102025Z
UID:10003577-1781107200-1781114400@leport.ch
SUMMARY:Papier végétal
DESCRIPTION:
URL:https://leport.ch/event/papier-vegetal-2/2026-06-10/
CATEGORIES:Jardins
ATTACH;FMTTYPE=image/jpeg:https://leport.ch/wp-content/uploads/2026/02/Faire-son-papier-vegetal_1-scaled.jpg
END:VEVENT
BEGIN:VEVENT
DTSTART;TZID=Europe/Paris:20260610T200000
DTEND;TZID=Europe/Paris:20260610T200000
DTSTAMP:20260421T001118
CREATED:20260420T102018Z
LAST-MODIFIED:20260420T102018Z
UID:10003796-1781121600-1781121600@leport.ch
SUMMARY:Atelier découverte de la céramique
DESCRIPTION:
URL:https://leport.ch/event/atelier-decouverte-de-la-ceramique/2026-06-10/
CATEGORIES:Expériences Collectives
ATTACH;FMTTYPE=image/jpeg:https://leport.ch/wp-content/uploads/2026/02/ceramique.jpg
END:VEVENT
BEGIN:VEVENT
DTSTART;TZID=Europe/Paris:20260611T190000
DTEND;TZID=Europe/Paris:20260611T203000
DTSTAMP:20260421T001118
CREATED:20260420T102012Z
LAST-MODIFIED:20260420T102012Z
UID:10003594-1781204400-1781209800@leport.ch
SUMMARY:A la découverte du tango argentin
DESCRIPTION:
URL:https://leport.ch/event/a-la-decouverte-du-tango-argentin/2026-06-11/
CATEGORIES:Expériences Collectives
ATTACH;FMTTYPE=image/jpeg:https://leport.ch/wp-content/uploads/2026/02/Initiation-au-tango.jpg
END:VEVENT
BEGIN:VEVENT
DTSTART;TZID=Europe/Paris:20260612T090000
DTEND;TZID=Europe/Paris:20260612T090000
DTSTAMP:20260421T001118
CREATED:20260420T101826Z
LAST-MODIFIED:20260420T101826Z
UID:10003605-1781254800-1781254800@leport.ch
SUMMARY:Taï-chi
DESCRIPTION:
URL:https://leport.ch/event/tai-chi-2/2026-06-12/
CATEGORIES:Expériences Collectives
ATTACH;FMTTYPE=image/jpeg:https://leport.ch/wp-content/uploads/2026/02/Tai-Chi_Photo.jpg
END:VEVENT
BEGIN:VEVENT
DTSTART;TZID=Europe/Paris:20260612T180000
DTEND;TZID=Europe/Paris:20260612T190000
DTSTAMP:20260421T001119
CREATED:20260420T094641Z
LAST-MODIFIED:20260420T124642Z
UID:10003720-1781287200-1781290800@leport.ch
SUMMARY:"Young at (He)art" Exposition de photographies-composites
DESCRIPTION:
URL:https://leport.ch/event/young-at-heart-exposition-de-photogaphies-composites/
CATEGORIES:Expositions
ATTACH;FMTTYPE=image/png:https://leport.ch/wp-content/uploads/2026/02/Capture-decran-2026-02-12-a-13.31.15.png
END:VEVENT
BEGIN:VEVENT
DTSTART;TZID=Europe/Paris:20260612T183000
DTEND;TZID=Europe/Paris:20260612T210000
DTSTAMP:20260421T001119
CREATED:20260420T094636Z
LAST-MODIFIED:20260420T094636Z
UID:10003721-1781289000-1781298000@leport.ch
SUMMARY:Dj set par Licah Sounds
DESCRIPTION:
URL:https://leport.ch/event/dj-set-par-licah-sounds/
CATEGORIES:Scène
ATTACH;FMTTYPE=image/jpeg:https://leport.ch/wp-content/uploads/2026/02/be3da1f2-51b6-4e70-80d1-c17925ddb0a0.jpg
END:VEVENT
BEGIN:VEVENT
DTSTART;TZID=Europe/Paris:20260614T093000
DTEND;TZID=Europe/Paris:20260614T103000
DTSTAMP:20260421T001119
CREATED:20260212T073700Z
LAST-MODIFIED:20260420T102039Z
UID:10003482-1781429400-1781433000@leport.ch
SUMMARY:Yoga Morning Flow
DESCRIPTION:
URL:https://leport.ch/event/yoga-morning-flow/2026-06-14/
CATEGORIES:Expériences Collectives
ATTACH;FMTTYPE=image/jpeg:https://leport.ch/wp-content/uploads/2026/02/IMG_6326.jpg
END:VEVENT
BEGIN:VEVENT
DTSTART;TZID=Europe/Paris:20260614T110000
DTEND;TZID=Europe/Paris:20260614T115000
DTSTAMP:20260421T001119
CREATED:20260420T094630Z
LAST-MODIFIED:20260420T094630Z
UID:10003722-1781434800-1781437800@leport.ch
SUMMARY:Les musiciens de Brême en musique
DESCRIPTION:
URL:https://leport.ch/event/les-musiciens-de-breme-en-musique/
CATEGORIES:Expériences Collectives
ATTACH;FMTTYPE=image/jpeg:https://leport.ch/wp-content/uploads/2026/02/Marie-Adele-_Contes83-scaled.jpg
END:VEVENT
BEGIN:VEVENT
DTSTART;TZID=Europe/Paris:20260615T180000
DTEND;TZID=Europe/Paris:20260615T210000
DTSTAMP:20260421T001119
CREATED:20260420T101750Z
LAST-MODIFIED:20260420T101750Z
UID:10003686-1781546400-1781557200@leport.ch
SUMMARY:ATELTEUF : réparation de vêtements
DESCRIPTION:
URL:https://leport.ch/event/atelteuf-reparation-de-vetements/2026-06-15/
CATEGORIES:Expériences Collectives
ATTACH;FMTTYPE=image/jpeg:https://leport.ch/wp-content/uploads/2026/02/photo_5850405027145958529_x.jpg
END:VEVENT
BEGIN:VEVENT
DTSTART;TZID=Europe/Paris:20260616T170000
DTEND;TZID=Europe/Paris:20260616T183000
DTSTAMP:20260421T001119
CREATED:20260420T101737Z
LAST-MODIFIED:20260420T101737Z
UID:10003757-1781629200-1781634600@leport.ch
SUMMARY:Broder ses envies
DESCRIPTION:
URL:https://leport.ch/event/broder-ses-envies/2026-06-16/
CATEGORIES:Expériences Collectives
ATTACH;FMTTYPE=image/jpeg:https://leport.ch/wp-content/uploads/2026/02/Screenshot_20260205_120822_Chrome-scaled.jpg
END:VEVENT
BEGIN:VEVENT
DTSTART;TZID=Europe/Paris:20260617T150000
DTEND;TZID=Europe/Paris:20260617T170000
DTSTAMP:20260421T001119
CREATED:20260420T101904Z
LAST-MODIFIED:20260420T101904Z
UID:10003498-1781708400-1781715600@leport.ch
SUMMARY:Du jardin à l'assiette
DESCRIPTION:
URL:https://leport.ch/event/du-jardin-a-lassiette-2/2026-06-17/
CATEGORIES:Jardins
ATTACH;FMTTYPE=image/jpeg:https://leport.ch/wp-content/uploads/2026/02/20250910_LePort-20.jpg
END:VEVENT
BEGIN:VEVENT
DTSTART;TZID=Europe/Paris:20260617T160000
DTEND;TZID=Europe/Paris:20260617T180000
DTSTAMP:20260421T001119
CREATED:20260420T102025Z
LAST-MODIFIED:20260420T102025Z
UID:10003578-1781712000-1781719200@leport.ch
SUMMARY:Papier végétal
DESCRIPTION:
URL:https://leport.ch/event/papier-vegetal-2/2026-06-17/
CATEGORIES:Jardins
ATTACH;FMTTYPE=image/jpeg:https://leport.ch/wp-content/uploads/2026/02/Faire-son-papier-vegetal_1-scaled.jpg
END:VEVENT
BEGIN:VEVENT
DTSTART;TZID=Europe/Paris:20260617T200000
DTEND;TZID=Europe/Paris:20260617T200000
DTSTAMP:20260421T001119
CREATED:20260420T102018Z
LAST-MODIFIED:20260420T102018Z
UID:10003797-1781726400-1781726400@leport.ch
SUMMARY:Atelier découverte de la céramique
DESCRIPTION:
URL:https://leport.ch/event/atelier-decouverte-de-la-ceramique/2026-06-17/
CATEGORIES:Expériences Collectives
ATTACH;FMTTYPE=image/jpeg:https://leport.ch/wp-content/uploads/2026/02/ceramique.jpg
END:VEVENT
BEGIN:VEVENT
DTSTART;TZID=Europe/Paris:20260618T190000
DTEND;TZID=Europe/Paris:20260618T213000
DTSTAMP:20260421T001119
CREATED:20260420T094647Z
LAST-MODIFIED:20260420T094647Z
UID:10003705-1781809200-1781818200@leport.ch
SUMMARY:Initiation au Lindy hop
DESCRIPTION:
URL:https://leport.ch/event/initiation-au-lindy-hop-2/2026-06-18/
CATEGORIES:Expériences Collectives
ATTACH;FMTTYPE=image/jpeg:https://leport.ch/wp-content/uploads/2026/02/257A9515-scaled.jpg
END:VEVENT
BEGIN:VEVENT
DTSTART;TZID=Europe/Paris:20260619T090000
DTEND;TZID=Europe/Paris:20260619T090000
DTSTAMP:20260421T001119
CREATED:20260420T101826Z
LAST-MODIFIED:20260420T101826Z
UID:10003606-1781859600-1781859600@leport.ch
SUMMARY:Taï-chi
DESCRIPTION:
URL:https://leport.ch/event/tai-chi-2/2026-06-19/
CATEGORIES:Expériences Collectives
ATTACH;FMTTYPE=image/jpeg:https://leport.ch/wp-content/uploads/2026/02/Tai-Chi_Photo.jpg
END:VEVENT
BEGIN:VEVENT
DTSTART;TZID=Europe/Paris:20260621T093000
DTEND;TZID=Europe/Paris:20260621T103000
DTSTAMP:20260421T001119
CREATED:20260212T073700Z
LAST-MODIFIED:20260420T102039Z
UID:10003483-1782034200-1782037800@leport.ch
SUMMARY:Yoga Morning Flow
DESCRIPTION:
URL:https://leport.ch/event/yoga-morning-flow/2026-06-21/
CATEGORIES:Expériences Collectives
ATTACH;FMTTYPE=image/jpeg:https://leport.ch/wp-content/uploads/2026/02/IMG_6326.jpg
END:VEVENT
END:VCALENDAR