BEGIN:VCALENDAR
VERSION:2.0
PRODID:-//Le Port de Fribourg - ECPv6.15.20//NONSGML v1.0//EN
CALSCALE:GREGORIAN
METHOD:PUBLISH
X-WR-CALNAME:Le Port de Fribourg
X-ORIGINAL-URL:https://leport.ch
X-WR-CALDESC:Évènements pour Le Port de Fribourg
REFRESH-INTERVAL;VALUE=DURATION:PT1H
X-Robots-Tag:noindex
X-PUBLISHED-TTL:PT1H
BEGIN:VTIMEZONE
TZID:Europe/Paris
BEGIN:DAYLIGHT
TZOFFSETFROM:+0100
TZOFFSETTO:+0200
TZNAME:CEST
DTSTART:20250330T010000
END:DAYLIGHT
BEGIN:STANDARD
TZOFFSETFROM:+0200
TZOFFSETTO:+0100
TZNAME:CET
DTSTART:20251026T010000
END:STANDARD
BEGIN:DAYLIGHT
TZOFFSETFROM:+0100
TZOFFSETTO:+0200
TZNAME:CEST
DTSTART:20260329T010000
END:DAYLIGHT
BEGIN:STANDARD
TZOFFSETFROM:+0200
TZOFFSETTO:+0100
TZNAME:CET
DTSTART:20261025T010000
END:STANDARD
BEGIN:DAYLIGHT
TZOFFSETFROM:+0100
TZOFFSETTO:+0200
TZNAME:CEST
DTSTART:20270328T010000
END:DAYLIGHT
BEGIN:STANDARD
TZOFFSETFROM:+0200
TZOFFSETTO:+0100
TZNAME:CET
DTSTART:20271031T010000
END:STANDARD
END:VTIMEZONE
BEGIN:VEVENT
DTSTART;TZID=Europe/Paris:20260701T153000
DTEND;TZID=Europe/Paris:20260701T170000
DTSTAMP:20260421T042534
CREATED:20260218T090719Z
LAST-MODIFIED:20260420T094601Z
UID:10003770-1782919800-1782925200@leport.ch
SUMMARY:ATELIER DES JARDINS: Plantes soignantes: Plantes & cycle féminin
DESCRIPTION:
URL:https://leport.ch/event/atelier-des-jardins-plantes-soignantes-plantes-cycle-feminin-2/
CATEGORIES:Jardins
ATTACH;FMTTYPE=image/jpeg:https://leport.ch/wp-content/uploads/2026/02/Plantes-et-cycle-feminin_photo.jpg
END:VEVENT
BEGIN:VEVENT
DTSTART;TZID=Europe/Paris:20260701T160000
DTEND;TZID=Europe/Paris:20260701T173000
DTSTAMP:20260421T042534
CREATED:20260218T090306Z
LAST-MODIFIED:20260420T094555Z
UID:10003768-1782921600-1782927000@leport.ch
SUMMARY:ATELIER DES JARDINS: Plantes soignantes: Bar à tisane
DESCRIPTION:
URL:https://leport.ch/event/atelier-des-jardins-plantes-soignantes-bar-a-tisane/
CATEGORIES:Jardins
ATTACH;FMTTYPE=image/jpeg:https://leport.ch/wp-content/uploads/2026/02/Bar-a-tisanes_2026.jpg
END:VEVENT
BEGIN:VEVENT
DTSTART;TZID=Europe/Paris:20260701T160000
DTEND;TZID=Europe/Paris:20260701T180000
DTSTAMP:20260421T042534
CREATED:20260420T102025Z
LAST-MODIFIED:20260420T102025Z
UID:10003580-1782921600-1782928800@leport.ch
SUMMARY:Papier végétal
DESCRIPTION:
URL:https://leport.ch/event/papier-vegetal-2/2026-07-01/
CATEGORIES:Jardins
ATTACH;FMTTYPE=image/jpeg:https://leport.ch/wp-content/uploads/2026/02/Faire-son-papier-vegetal_1-scaled.jpg
END:VEVENT
BEGIN:VEVENT
DTSTART;TZID=Europe/Paris:20260701T170000
DTEND;TZID=Europe/Paris:20260701T183000
DTSTAMP:20260421T042534
CREATED:20260218T085808Z
LAST-MODIFIED:20260420T094549Z
UID:10003774-1782925200-1782930600@leport.ch
SUMMARY:ATELIER DES JARDINS: Plantes soignantes: Vivre un sentier fleurs de Bach
DESCRIPTION:
URL:https://leport.ch/event/atelier-des-jardins-plantes-soignantes-vivre-un-sentiers-fleurs-de-bach-2/
CATEGORIES:Jardins
ATTACH;FMTTYPE=image/jpeg:https://leport.ch/wp-content/uploads/2026/02/Vivre-un-sentier-fleurs-de-bach.jpg
END:VEVENT
BEGIN:VEVENT
DTSTART;TZID=Europe/Paris:20260701T200000
DTEND;TZID=Europe/Paris:20260701T200000
DTSTAMP:20260421T042534
CREATED:20260420T102018Z
LAST-MODIFIED:20260420T102018Z
UID:10003799-1782936000-1782936000@leport.ch
SUMMARY:Atelier découverte de la céramique
DESCRIPTION:
URL:https://leport.ch/event/atelier-decouverte-de-la-ceramique/2026-07-01/
CATEGORIES:Expériences Collectives
ATTACH;FMTTYPE=image/jpeg:https://leport.ch/wp-content/uploads/2026/02/ceramique.jpg
END:VEVENT
BEGIN:VEVENT
DTSTART;TZID=Europe/Paris:20260702T190000
DTEND;TZID=Europe/Paris:20260702T213000
DTSTAMP:20260421T042534
CREATED:20260420T094647Z
LAST-MODIFIED:20260420T094647Z
UID:10003706-1783018800-1783027800@leport.ch
SUMMARY:Initiation au Lindy hop
DESCRIPTION:
URL:https://leport.ch/event/initiation-au-lindy-hop-2/2026-07-02/
CATEGORIES:Expériences Collectives
ATTACH;FMTTYPE=image/jpeg:https://leport.ch/wp-content/uploads/2026/02/257A9515-scaled.jpg
END:VEVENT
BEGIN:VEVENT
DTSTART;TZID=Europe/Paris:20260703T090000
DTEND;TZID=Europe/Paris:20260703T090000
DTSTAMP:20260421T042534
CREATED:20260420T101826Z
LAST-MODIFIED:20260420T101826Z
UID:10003608-1783069200-1783069200@leport.ch
SUMMARY:Taï-chi
DESCRIPTION:
URL:https://leport.ch/event/tai-chi-2/2026-07-03/
CATEGORIES:Expériences Collectives
ATTACH;FMTTYPE=image/jpeg:https://leport.ch/wp-content/uploads/2026/02/Tai-Chi_Photo.jpg
END:VEVENT
BEGIN:VEVENT
DTSTART;TZID=Europe/Paris:20260704T133000
DTEND;TZID=Europe/Paris:20260704T163000
DTSTAMP:20260421T042534
CREATED:20260420T101801Z
LAST-MODIFIED:20260420T101801Z
UID:10003680-1783171800-1783182600@leport.ch
SUMMARY:Massage des mains
DESCRIPTION:
URL:https://leport.ch/event/massage-des-mains-2/2026-07-04/
CATEGORIES:Expériences Collectives
ATTACH;FMTTYPE=image/jpeg:https://leport.ch/wp-content/uploads/2026/02/Massage_mains.jpg
END:VEVENT
BEGIN:VEVENT
DTSTART;TZID=Europe/Paris:20260704T170000
DTEND;TZID=Europe/Paris:20260704T181500
DTSTAMP:20260421T042534
CREATED:20260420T094544Z
LAST-MODIFIED:20260420T094544Z
UID:10003728-1783184400-1783188900@leport.ch
SUMMARY:Défilé boutique Pas d'chichis
DESCRIPTION:
URL:https://leport.ch/event/defile-boutique-pas-dchichis-2/
CATEGORIES:Expériences Collectives
ATTACH;FMTTYPE=image/jpeg:https://leport.ch/wp-content/uploads/2026/02/IMG_3196.jpg
END:VEVENT
BEGIN:VEVENT
DTSTART;TZID=Europe/Paris:20260705T093000
DTEND;TZID=Europe/Paris:20260705T103000
DTSTAMP:20260421T042534
CREATED:20260212T073700Z
LAST-MODIFIED:20260420T102039Z
UID:10003485-1783243800-1783247400@leport.ch
SUMMARY:Yoga Morning Flow
DESCRIPTION:
URL:https://leport.ch/event/yoga-morning-flow/2026-07-05/
CATEGORIES:Expériences Collectives
ATTACH;FMTTYPE=image/jpeg:https://leport.ch/wp-content/uploads/2026/02/IMG_6326.jpg
END:VEVENT
BEGIN:VEVENT
DTSTART;TZID=Europe/Paris:20260707T170000
DTEND;TZID=Europe/Paris:20260707T220000
DTSTAMP:20260421T042534
CREATED:20260420T094610Z
LAST-MODIFIED:20260420T094610Z
UID:10003725-1783443600-1783461600@leport.ch
SUMMARY:Soirée jeux de société - L'île aux trésors
DESCRIPTION:
URL:https://leport.ch/event/soiree-jeux-de-societe-lile-aux-tresors/2026-07-07/
CATEGORIES:Expériences Collectives
ATTACH;FMTTYPE=image/jpeg:https://leport.ch/wp-content/uploads/2026/02/IMG_0005-scaled.jpg
END:VEVENT
BEGIN:VEVENT
DTSTART;TZID=Europe/Paris:20260708T160000
DTEND;TZID=Europe/Paris:20260708T180000
DTSTAMP:20260421T042534
CREATED:20260420T102025Z
LAST-MODIFIED:20260420T102025Z
UID:10003581-1783526400-1783533600@leport.ch
SUMMARY:Papier végétal
DESCRIPTION:
URL:https://leport.ch/event/papier-vegetal-2/2026-07-08/
CATEGORIES:Jardins
ATTACH;FMTTYPE=image/jpeg:https://leport.ch/wp-content/uploads/2026/02/Faire-son-papier-vegetal_1-scaled.jpg
END:VEVENT
BEGIN:VEVENT
DTSTART;TZID=Europe/Paris:20260708T200000
DTEND;TZID=Europe/Paris:20260708T200000
DTSTAMP:20260421T042534
CREATED:20260420T102018Z
LAST-MODIFIED:20260420T102018Z
UID:10003800-1783540800-1783540800@leport.ch
SUMMARY:Atelier découverte de la céramique
DESCRIPTION:
URL:https://leport.ch/event/atelier-decouverte-de-la-ceramique/2026-07-08/
CATEGORIES:Expériences Collectives
ATTACH;FMTTYPE=image/jpeg:https://leport.ch/wp-content/uploads/2026/02/ceramique.jpg
END:VEVENT
BEGIN:VEVENT
DTSTART;TZID=Europe/Paris:20260709T190000
DTEND;TZID=Europe/Paris:20260709T203000
DTSTAMP:20260421T042534
CREATED:20260420T102012Z
LAST-MODIFIED:20260420T102012Z
UID:10003596-1783623600-1783629000@leport.ch
SUMMARY:A la découverte du tango argentin
DESCRIPTION:
URL:https://leport.ch/event/a-la-decouverte-du-tango-argentin/2026-07-09/
CATEGORIES:Expériences Collectives
ATTACH;FMTTYPE=image/jpeg:https://leport.ch/wp-content/uploads/2026/02/Initiation-au-tango.jpg
END:VEVENT
BEGIN:VEVENT
DTSTART;TZID=Europe/Paris:20260710T090000
DTEND;TZID=Europe/Paris:20260710T090000
DTSTAMP:20260421T042534
CREATED:20260420T101826Z
LAST-MODIFIED:20260420T101826Z
UID:10003609-1783674000-1783674000@leport.ch
SUMMARY:Taï-chi
DESCRIPTION:
URL:https://leport.ch/event/tai-chi-2/2026-07-10/
CATEGORIES:Expériences Collectives
ATTACH;FMTTYPE=image/jpeg:https://leport.ch/wp-content/uploads/2026/02/Tai-Chi_Photo.jpg
END:VEVENT
BEGIN:VEVENT
DTSTART;TZID=Europe/Paris:20260711T103000
DTEND;TZID=Europe/Paris:20260711T120000
DTSTAMP:20260421T042534
CREATED:20260420T094617Z
LAST-MODIFIED:20260420T094617Z
UID:10003735-1783765800-1783771200@leport.ch
SUMMARY:JOURNEE MOUSSAILLONS: Yoga pour enfants\, atelier peinture et badges pour enfants
DESCRIPTION:
URL:https://leport.ch/event/journee-moussaillons-yoga-pour-enfants-atelier-peinture-et-badges-pour-enfants/
CATEGORIES:Expériences Collectives
ATTACH;FMTTYPE=image/jpeg:https://leport.ch/wp-content/uploads/2026/02/creation-badge.jpg
END:VEVENT
BEGIN:VEVENT
DTSTART;TZID=Europe/Paris:20260711T110000
DTEND;TZID=Europe/Paris:20260711T114500
DTSTAMP:20260421T042534
CREATED:20260420T094538Z
LAST-MODIFIED:20260420T094538Z
UID:10003732-1783767600-1783770300@leport.ch
SUMMARY:JOURNEE MOUSSAILLONS: Né.e pour lire
DESCRIPTION:
URL:https://leport.ch/event/journee-moussaillons-ne-e-pour-lire/
CATEGORIES:Expériences Collectives
ATTACH;FMTTYPE=image/jpeg:https://leport.ch/wp-content/uploads/2026/02/ne-pour-lire-2026.jpg
END:VEVENT
BEGIN:VEVENT
DTSTART;TZID=Europe/Paris:20260711T110000
DTEND;TZID=Europe/Paris:20260711T170000
DTSTAMP:20260421T042534
CREATED:20260420T094533Z
LAST-MODIFIED:20260420T094533Z
UID:10003733-1783767600-1783789200@leport.ch
SUMMARY:JOURNEE MOUSSAILLONS: Pour de faux - Tattoos éphémères
DESCRIPTION:
URL:https://leport.ch/event/journee-moussaillons-pour-de-faux-tattoos-ephemeres/
CATEGORIES:Expériences Collectives
ATTACH;FMTTYPE=image/jpeg:https://leport.ch/wp-content/uploads/2026/02/IMG_2595.jpeg
END:VEVENT
BEGIN:VEVENT
DTSTART;TZID=Europe/Paris:20260711T130000
DTEND;TZID=Europe/Paris:20260711T140000
DTSTAMP:20260421T042534
CREATED:20260420T094528Z
LAST-MODIFIED:20260420T094528Z
UID:10003731-1783774800-1783778400@leport.ch
SUMMARY:JOURNEE MOUSSAILLONS: La frisque équipe
DESCRIPTION:
URL:https://leport.ch/event/journee-moussaillons-la-frisque-equipe/
CATEGORIES:Scène
ATTACH;FMTTYPE=image/jpeg:https://leport.ch/wp-content/uploads/2026/02/la-frisque-equipe-complet.jpeg
END:VEVENT
BEGIN:VEVENT
DTSTART;TZID=Europe/Paris:20260711T140000
DTEND;TZID=Europe/Paris:20260711T160000
DTSTAMP:20260421T042534
CREATED:20260420T094521Z
LAST-MODIFIED:20260420T094521Z
UID:10003730-1783778400-1783785600@leport.ch
SUMMARY:JOURNEE MOUSSAILLONS: Découvre le cyanotype\, une ancienne technique photographique
DESCRIPTION:
URL:https://leport.ch/event/journee-moussaillons-decouvre-le-cyanotype-une-ancienne-technique-photographique/
CATEGORIES:Expériences Collectives
ATTACH;FMTTYPE=image/jpeg:https://leport.ch/wp-content/uploads/2026/03/53a31dfd-a38a-4a07-9bcb-99b252581dbc.jpg
END:VEVENT
BEGIN:VEVENT
DTSTART;TZID=Europe/Paris:20260711T150000
DTEND;TZID=Europe/Paris:20260711T170000
DTSTAMP:20260421T042534
CREATED:20260420T094416Z
LAST-MODIFIED:20260420T094512Z
UID:10003734-1783782000-1783789200@leport.ch
SUMMARY:JOURNEE MOUSSAILLONS: Un jeu qui cartonne
DESCRIPTION:
URL:https://leport.ch/event/journee-moussaillons-un-jeu-qui-cartonne/
CATEGORIES:Expériences Collectives
ATTACH;FMTTYPE=image/jpeg:https://leport.ch/wp-content/uploads/2026/02/Image_jeu-passe-trappe_Ile-aux-tresors.jpg
END:VEVENT
BEGIN:VEVENT
DTSTART;TZID=Europe/Paris:20260711T180000
DTEND;TZID=Europe/Paris:20260711T190000
DTSTAMP:20260421T042534
CREATED:20260420T094410Z
LAST-MODIFIED:20260420T094446Z
UID:10003729-1783792800-1783796400@leport.ch
SUMMARY:JOURNEE MOUSSAILLONS: Spectacle de cirque de la Compagnie Compact
DESCRIPTION:
URL:https://leport.ch/event/journee-moussaillons-spectacle-de-cirque-de-la-compagnie-compact/
CATEGORIES:Scène
END:VEVENT
BEGIN:VEVENT
DTSTART;TZID=Europe/Paris:20260712T093000
DTEND;TZID=Europe/Paris:20260712T103000
DTSTAMP:20260421T042534
CREATED:20260212T073700Z
LAST-MODIFIED:20260420T102039Z
UID:10003486-1783848600-1783852200@leport.ch
SUMMARY:Yoga Morning Flow
DESCRIPTION:
URL:https://leport.ch/event/yoga-morning-flow/2026-07-12/
CATEGORIES:Expériences Collectives
ATTACH;FMTTYPE=image/jpeg:https://leport.ch/wp-content/uploads/2026/02/IMG_6326.jpg
END:VEVENT
BEGIN:VEVENT
DTSTART;TZID=Europe/Paris:20260713T180000
DTEND;TZID=Europe/Paris:20260713T210000
DTSTAMP:20260421T042534
CREATED:20260420T101750Z
LAST-MODIFIED:20260420T101750Z
UID:10003688-1783965600-1783976400@leport.ch
SUMMARY:ATELTEUF : réparation de vêtements
DESCRIPTION:
URL:https://leport.ch/event/atelteuf-reparation-de-vetements/2026-07-13/
CATEGORIES:Expériences Collectives
ATTACH;FMTTYPE=image/jpeg:https://leport.ch/wp-content/uploads/2026/02/photo_5850405027145958529_x.jpg
END:VEVENT
BEGIN:VEVENT
DTSTART;TZID=Europe/Paris:20260714T170000
DTEND;TZID=Europe/Paris:20260714T183000
DTSTAMP:20260421T042534
CREATED:20260420T101737Z
LAST-MODIFIED:20260420T101737Z
UID:10003759-1784048400-1784053800@leport.ch
SUMMARY:Broder ses envies
DESCRIPTION:
URL:https://leport.ch/event/broder-ses-envies/2026-07-14/
CATEGORIES:Expériences Collectives
ATTACH;FMTTYPE=image/jpeg:https://leport.ch/wp-content/uploads/2026/02/Screenshot_20260205_120822_Chrome-scaled.jpg
END:VEVENT
BEGIN:VEVENT
DTSTART;TZID=Europe/Paris:20260715T150000
DTEND;TZID=Europe/Paris:20260715T170000
DTSTAMP:20260421T042534
CREATED:20260420T101904Z
LAST-MODIFIED:20260420T101904Z
UID:10003499-1784127600-1784134800@leport.ch
SUMMARY:Du jardin à l'assiette
DESCRIPTION:
URL:https://leport.ch/event/du-jardin-a-lassiette-2/2026-07-15/
CATEGORIES:Jardins
ATTACH;FMTTYPE=image/jpeg:https://leport.ch/wp-content/uploads/2026/02/20250910_LePort-20.jpg
END:VEVENT
BEGIN:VEVENT
DTSTART;TZID=Europe/Paris:20260715T160000
DTEND;TZID=Europe/Paris:20260715T180000
DTSTAMP:20260421T042534
CREATED:20260420T102025Z
LAST-MODIFIED:20260420T102025Z
UID:10003582-1784131200-1784138400@leport.ch
SUMMARY:Papier végétal
DESCRIPTION:
URL:https://leport.ch/event/papier-vegetal-2/2026-07-15/
CATEGORIES:Jardins
ATTACH;FMTTYPE=image/jpeg:https://leport.ch/wp-content/uploads/2026/02/Faire-son-papier-vegetal_1-scaled.jpg
END:VEVENT
BEGIN:VEVENT
DTSTART;TZID=Europe/Paris:20260715T200000
DTEND;TZID=Europe/Paris:20260715T200000
DTSTAMP:20260421T042534
CREATED:20260420T102018Z
LAST-MODIFIED:20260420T102018Z
UID:10003801-1784145600-1784145600@leport.ch
SUMMARY:Atelier découverte de la céramique
DESCRIPTION:
URL:https://leport.ch/event/atelier-decouverte-de-la-ceramique/2026-07-15/
CATEGORIES:Expériences Collectives
ATTACH;FMTTYPE=image/jpeg:https://leport.ch/wp-content/uploads/2026/02/ceramique.jpg
END:VEVENT
BEGIN:VEVENT
DTSTART;TZID=Europe/Paris:20260716T190000
DTEND;TZID=Europe/Paris:20260716T213000
DTSTAMP:20260421T042534
CREATED:20260420T094647Z
LAST-MODIFIED:20260420T094647Z
UID:10003707-1784228400-1784237400@leport.ch
SUMMARY:Initiation au Lindy hop
DESCRIPTION:
URL:https://leport.ch/event/initiation-au-lindy-hop-2/2026-07-16/
CATEGORIES:Expériences Collectives
ATTACH;FMTTYPE=image/jpeg:https://leport.ch/wp-content/uploads/2026/02/257A9515-scaled.jpg
END:VEVENT
BEGIN:VEVENT
DTSTART;TZID=Europe/Paris:20260717T090000
DTEND;TZID=Europe/Paris:20260717T090000
DTSTAMP:20260421T042534
CREATED:20260420T101826Z
LAST-MODIFIED:20260420T101826Z
UID:10003610-1784278800-1784278800@leport.ch
SUMMARY:Taï-chi
DESCRIPTION:
URL:https://leport.ch/event/tai-chi-2/2026-07-17/
CATEGORIES:Expériences Collectives
ATTACH;FMTTYPE=image/jpeg:https://leport.ch/wp-content/uploads/2026/02/Tai-Chi_Photo.jpg
END:VEVENT
END:VCALENDAR