BEGIN:VCALENDAR
VERSION:2.0
PRODID:-//Le Port de Fribourg - ECPv6.15.20//NONSGML v1.0//EN
CALSCALE:GREGORIAN
METHOD:PUBLISH
X-ORIGINAL-URL:https://leport.ch
X-WR-CALDESC:Évènements pour Le Port de Fribourg
REFRESH-INTERVAL;VALUE=DURATION:PT1H
X-Robots-Tag:noindex
X-PUBLISHED-TTL:PT1H
BEGIN:VTIMEZONE
TZID:Europe/Paris
BEGIN:DAYLIGHT
TZOFFSETFROM:+0100
TZOFFSETTO:+0200
TZNAME:CEST
DTSTART:20250330T010000
END:DAYLIGHT
BEGIN:STANDARD
TZOFFSETFROM:+0200
TZOFFSETTO:+0100
TZNAME:CET
DTSTART:20251026T010000
END:STANDARD
BEGIN:DAYLIGHT
TZOFFSETFROM:+0100
TZOFFSETTO:+0200
TZNAME:CEST
DTSTART:20260329T010000
END:DAYLIGHT
BEGIN:STANDARD
TZOFFSETFROM:+0200
TZOFFSETTO:+0100
TZNAME:CET
DTSTART:20261025T010000
END:STANDARD
BEGIN:DAYLIGHT
TZOFFSETFROM:+0100
TZOFFSETTO:+0200
TZNAME:CEST
DTSTART:20270328T010000
END:DAYLIGHT
BEGIN:STANDARD
TZOFFSETFROM:+0200
TZOFFSETTO:+0100
TZNAME:CET
DTSTART:20271031T010000
END:STANDARD
END:VTIMEZONE
BEGIN:VEVENT
DTSTART;TZID=Europe/Paris:20260802T093000
DTEND;TZID=Europe/Paris:20260802T103000
DTSTAMP:20260425T142142
CREATED:20260212T073700Z
LAST-MODIFIED:20260423T054956Z
UID:10003489-1785663000-1785666600@leport.ch
SUMMARY:Yoga Morning Flow
DESCRIPTION:
URL:https://leport.ch/event/yoga-morning-flow/2026-08-02/
CATEGORIES:Expériences Collectives
ATTACH;FMTTYPE=image/jpeg:https://leport.ch/wp-content/uploads/2026/02/IMG_6326.jpg
END:VEVENT
BEGIN:VEVENT
DTSTART;TZID=Europe/Paris:20260804T190000
DTEND;TZID=Europe/Paris:20260804T203000
DTSTAMP:20260425T142142
CREATED:20260420T094400Z
LAST-MODIFIED:20260420T094400Z
UID:10003702-1785870000-1785875400@leport.ch
SUMMARY:Bibliothèque vivante : notre communauté queer
DESCRIPTION:
URL:https://leport.ch/event/bibliotheque-vivante-notre-communaute-queer/
CATEGORIES:Expériences Collectives
ATTACH;FMTTYPE=image/jpeg:https://leport.ch/wp-content/uploads/2026/02/image_Librairie-vivante.jpeg
END:VEVENT
BEGIN:VEVENT
DTSTART;TZID=Europe/Paris:20260805T140000
DTEND;TZID=Europe/Paris:20260805T160000
DTSTAMP:20260425T142142
CREATED:20260420T094354Z
LAST-MODIFIED:20260420T094354Z
UID:10003773-1785938400-1785945600@leport.ch
SUMMARY:ATELIER DES JARDINS : Cuisine ton jardin: Focaccia aux herbettes
DESCRIPTION:
URL:https://leport.ch/event/atelier-des-jardins-cuisine-ton-jardin-focaccia-aux-herbettes/
CATEGORIES:Jardins
ATTACH;FMTTYPE=image/jpeg:https://leport.ch/wp-content/uploads/2026/02/focaccia-aux-herbettes.jpg
END:VEVENT
BEGIN:VEVENT
DTSTART;TZID=Europe/Paris:20260805T140000
DTEND;TZID=Europe/Paris:20260805T183000
DTSTAMP:20260425T142142
CREATED:20260420T094349Z
LAST-MODIFIED:20260420T094349Z
UID:10003778-1785938400-1785954600@leport.ch
SUMMARY:ATELIER DES JARDINS : Cuisine ton jardin: Souper à la marmite norvégienne
DESCRIPTION:
URL:https://leport.ch/event/atelier-des-jardins-cuisine-ton-jardin-souper-a-la-marmite-norvegienne/
CATEGORIES:Jardins
ATTACH;FMTTYPE=image/jpeg:https://leport.ch/wp-content/uploads/2026/02/marmite-norvegienne.jpg
END:VEVENT
BEGIN:VEVENT
DTSTART;TZID=Europe/Paris:20260805T150000
DTEND;TZID=Europe/Paris:20260805T170000
DTSTAMP:20260425T142142
CREATED:20260420T094343Z
LAST-MODIFIED:20260420T094343Z
UID:10003777-1785942000-1785949200@leport.ch
SUMMARY:ATELIER DES JARDINS : Cuisine ton jardin: Son fromage frais maison
DESCRIPTION:
URL:https://leport.ch/event/atelier-des-jardins-cuisine-ton-jardin-son-fromage-frais-maison/
CATEGORIES:Jardins
ATTACH;FMTTYPE=image/jpeg:https://leport.ch/wp-content/uploads/2026/02/Fromage-frais-maison_2026-scaled.jpg
END:VEVENT
BEGIN:VEVENT
DTSTART;TZID=Europe/Paris:20260805T160000
DTEND;TZID=Europe/Paris:20260805T180000
DTSTAMP:20260425T142142
CREATED:20260420T102025Z
LAST-MODIFIED:20260420T102025Z
UID:10003585-1785945600-1785952800@leport.ch
SUMMARY:Papier végétal
DESCRIPTION:
URL:https://leport.ch/event/papier-vegetal-2/2026-08-05/
CATEGORIES:Jardins
ATTACH;FMTTYPE=image/jpeg:https://leport.ch/wp-content/uploads/2026/02/Faire-son-papier-vegetal_1-scaled.jpg
END:VEVENT
BEGIN:VEVENT
DTSTART;TZID=Europe/Paris:20260805T170000
DTEND;TZID=Europe/Paris:20260805T180000
DTSTAMP:20260425T142142
CREATED:20260420T094337Z
LAST-MODIFIED:20260420T094337Z
UID:10003779-1785949200-1785952800@leport.ch
SUMMARY:ATELIER DES JARDINS : Cuisine ton jardin: Thé froid des jardins
DESCRIPTION:
URL:https://leport.ch/event/atelier-des-jardins-cuisine-ton-jardin-the-froid-des-jardins/
CATEGORIES:Jardins
ATTACH;FMTTYPE=image/webp:https://leport.ch/wp-content/uploads/2026/02/the-FROID-DES-JARDINS.webp
END:VEVENT
BEGIN:VEVENT
DTSTART;TZID=Europe/Paris:20260805T200000
DTEND;TZID=Europe/Paris:20260805T200000
DTSTAMP:20260425T142142
CREATED:20260420T102018Z
LAST-MODIFIED:20260420T102018Z
UID:10003804-1785960000-1785960000@leport.ch
SUMMARY:Atelier découverte de la céramique
DESCRIPTION:
URL:https://leport.ch/event/atelier-decouverte-de-la-ceramique/2026-08-05/
CATEGORIES:Expériences Collectives
ATTACH;FMTTYPE=image/jpeg:https://leport.ch/wp-content/uploads/2026/02/ceramique.jpg
END:VEVENT
BEGIN:VEVENT
DTSTART;TZID=Europe/Paris:20260806T190000
DTEND;TZID=Europe/Paris:20260806T203000
DTSTAMP:20260425T142142
CREATED:20260420T102012Z
LAST-MODIFIED:20260423T123114Z
UID:10003598-1786042800-1786048200@leport.ch
SUMMARY:A la découverte du tango argentin
DESCRIPTION:
URL:https://leport.ch/event/a-la-decouverte-du-tango-argentin/2026-08-06/
CATEGORIES:Expériences Collectives
ATTACH;FMTTYPE=image/webp:https://leport.ch/wp-content/uploads/2026/04/Initiation-tango-argentin_FriTango_korr.webp
END:VEVENT
BEGIN:VEVENT
DTSTART;TZID=Europe/Paris:20260807T090000
DTEND;TZID=Europe/Paris:20260807T090000
DTSTAMP:20260425T142142
CREATED:20260420T101826Z
LAST-MODIFIED:20260420T101826Z
UID:10003613-1786093200-1786093200@leport.ch
SUMMARY:Taï-chi
DESCRIPTION:
URL:https://leport.ch/event/tai-chi-2/2026-08-07/
CATEGORIES:Expériences Collectives
ATTACH;FMTTYPE=image/jpeg:https://leport.ch/wp-content/uploads/2026/02/Tai-Chi_Photo.jpg
END:VEVENT
BEGIN:VEVENT
DTSTART;TZID=Europe/Paris:20260809T093000
DTEND;TZID=Europe/Paris:20260809T103000
DTSTAMP:20260425T142142
CREATED:20260212T073700Z
LAST-MODIFIED:20260423T054956Z
UID:10003490-1786267800-1786271400@leport.ch
SUMMARY:Yoga Morning Flow
DESCRIPTION:
URL:https://leport.ch/event/yoga-morning-flow/2026-08-09/
CATEGORIES:Expériences Collectives
ATTACH;FMTTYPE=image/jpeg:https://leport.ch/wp-content/uploads/2026/02/IMG_6326.jpg
END:VEVENT
BEGIN:VEVENT
DTSTART;TZID=Europe/Paris:20260811T170000
DTEND;TZID=Europe/Paris:20260811T183000
DTSTAMP:20260425T142142
CREATED:20260420T101737Z
LAST-MODIFIED:20260420T101737Z
UID:10003761-1786467600-1786473000@leport.ch
SUMMARY:Broder ses envies
DESCRIPTION:
URL:https://leport.ch/event/broder-ses-envies/2026-08-11/
CATEGORIES:Expériences Collectives
ATTACH;FMTTYPE=image/jpeg:https://leport.ch/wp-content/uploads/2026/02/Screenshot_20260205_120822_Chrome-scaled.jpg
END:VEVENT
BEGIN:VEVENT
DTSTART;TZID=Europe/Paris:20260812T150000
DTEND;TZID=Europe/Paris:20260812T170000
DTSTAMP:20260425T142142
CREATED:20260420T101904Z
LAST-MODIFIED:20260420T101904Z
UID:10003500-1786546800-1786554000@leport.ch
SUMMARY:Du jardin à l'assiette
DESCRIPTION:
URL:https://leport.ch/event/du-jardin-a-lassiette-2/2026-08-12/
CATEGORIES:Jardins
ATTACH;FMTTYPE=image/jpeg:https://leport.ch/wp-content/uploads/2026/02/20250910_LePort-20.jpg
END:VEVENT
BEGIN:VEVENT
DTSTART;TZID=Europe/Paris:20260812T160000
DTEND;TZID=Europe/Paris:20260812T180000
DTSTAMP:20260425T142142
CREATED:20260420T102025Z
LAST-MODIFIED:20260420T102025Z
UID:10003586-1786550400-1786557600@leport.ch
SUMMARY:Papier végétal
DESCRIPTION:
URL:https://leport.ch/event/papier-vegetal-2/2026-08-12/
CATEGORIES:Jardins
ATTACH;FMTTYPE=image/jpeg:https://leport.ch/wp-content/uploads/2026/02/Faire-son-papier-vegetal_1-scaled.jpg
END:VEVENT
BEGIN:VEVENT
DTSTART;TZID=Europe/Paris:20260812T200000
DTEND;TZID=Europe/Paris:20260812T200000
DTSTAMP:20260425T142142
CREATED:20260420T102018Z
LAST-MODIFIED:20260420T102018Z
UID:10003805-1786564800-1786564800@leport.ch
SUMMARY:Atelier découverte de la céramique
DESCRIPTION:
URL:https://leport.ch/event/atelier-decouverte-de-la-ceramique/2026-08-12/
CATEGORIES:Expériences Collectives
ATTACH;FMTTYPE=image/jpeg:https://leport.ch/wp-content/uploads/2026/02/ceramique.jpg
END:VEVENT
BEGIN:VEVENT
DTSTART;TZID=Europe/Paris:20260813T190000
DTEND;TZID=Europe/Paris:20260813T213000
DTSTAMP:20260425T142142
CREATED:20260420T094647Z
LAST-MODIFIED:20260420T094647Z
UID:10003709-1786647600-1786656600@leport.ch
SUMMARY:Initiation au Lindy hop
DESCRIPTION:
URL:https://leport.ch/event/initiation-au-lindy-hop-2/2026-08-13/
CATEGORIES:Expériences Collectives
ATTACH;FMTTYPE=image/jpeg:https://leport.ch/wp-content/uploads/2026/02/257A9515-scaled.jpg
END:VEVENT
BEGIN:VEVENT
DTSTART;TZID=Europe/Paris:20260814T090000
DTEND;TZID=Europe/Paris:20260814T090000
DTSTAMP:20260425T142142
CREATED:20260420T101826Z
LAST-MODIFIED:20260420T101826Z
UID:10003614-1786698000-1786698000@leport.ch
SUMMARY:Taï-chi
DESCRIPTION:
URL:https://leport.ch/event/tai-chi-2/2026-08-14/
CATEGORIES:Expériences Collectives
ATTACH;FMTTYPE=image/jpeg:https://leport.ch/wp-content/uploads/2026/02/Tai-Chi_Photo.jpg
END:VEVENT
BEGIN:VEVENT
DTSTART;TZID=Europe/Paris:20260815T190000
DTEND;TZID=Europe/Paris:20260816T010000
DTSTAMP:20260425T142142
CREATED:20260420T094503Z
LAST-MODIFIED:20260420T094503Z
UID:10003787-1786820400-1786842000@leport.ch
SUMMARY:Summer Party
DESCRIPTION:
URL:https://leport.ch/event/summer-party-2/
CATEGORIES:Bistro
ATTACH;FMTTYPE=image/jpeg:https://leport.ch/wp-content/uploads/2026/02/Summer-Party98-scaled.jpg
END:VEVENT
BEGIN:VEVENT
DTSTART;TZID=Europe/Paris:20260816T093000
DTEND;TZID=Europe/Paris:20260816T103000
DTSTAMP:20260425T142142
CREATED:20260212T073700Z
LAST-MODIFIED:20260423T054956Z
UID:10003491-1786872600-1786876200@leport.ch
SUMMARY:Yoga Morning Flow
DESCRIPTION:
URL:https://leport.ch/event/yoga-morning-flow/2026-08-16/
CATEGORIES:Expériences Collectives
ATTACH;FMTTYPE=image/jpeg:https://leport.ch/wp-content/uploads/2026/02/IMG_6326.jpg
END:VEVENT
BEGIN:VEVENT
DTSTART;TZID=Europe/Paris:20260816T133000
DTEND;TZID=Europe/Paris:20260816T163000
DTSTAMP:20260425T142142
CREATED:20260420T101801Z
LAST-MODIFIED:20260420T101801Z
UID:10003682-1786887000-1786897800@leport.ch
SUMMARY:Massage des mains
DESCRIPTION:
URL:https://leport.ch/event/massage-des-mains-2/2026-08-16/
CATEGORIES:Expériences Collectives
ATTACH;FMTTYPE=image/jpeg:https://leport.ch/wp-content/uploads/2026/02/Massage_mains.jpg
END:VEVENT
BEGIN:VEVENT
DTSTART;TZID=Europe/Paris:20260819T160000
DTEND;TZID=Europe/Paris:20260819T180000
DTSTAMP:20260425T142142
CREATED:20260420T102025Z
LAST-MODIFIED:20260420T102025Z
UID:10003587-1787155200-1787162400@leport.ch
SUMMARY:Papier végétal
DESCRIPTION:
URL:https://leport.ch/event/papier-vegetal-2/2026-08-19/
CATEGORIES:Jardins
ATTACH;FMTTYPE=image/jpeg:https://leport.ch/wp-content/uploads/2026/02/Faire-son-papier-vegetal_1-scaled.jpg
END:VEVENT
BEGIN:VEVENT
DTSTART;TZID=Europe/Paris:20260819T200000
DTEND;TZID=Europe/Paris:20260819T200000
DTSTAMP:20260425T142142
CREATED:20260420T102018Z
LAST-MODIFIED:20260420T102018Z
UID:10003806-1787169600-1787169600@leport.ch
SUMMARY:Atelier découverte de la céramique
DESCRIPTION:
URL:https://leport.ch/event/atelier-decouverte-de-la-ceramique/2026-08-19/
CATEGORIES:Expériences Collectives
ATTACH;FMTTYPE=image/jpeg:https://leport.ch/wp-content/uploads/2026/02/ceramique.jpg
END:VEVENT
BEGIN:VEVENT
DTSTART;TZID=Europe/Paris:20260820T190000
DTEND;TZID=Europe/Paris:20260820T213000
DTSTAMP:20260425T142142
CREATED:20260420T094647Z
LAST-MODIFIED:20260420T094647Z
UID:10003710-1787252400-1787261400@leport.ch
SUMMARY:Initiation au Lindy hop
DESCRIPTION:
URL:https://leport.ch/event/initiation-au-lindy-hop-2/2026-08-20/
CATEGORIES:Expériences Collectives
ATTACH;FMTTYPE=image/jpeg:https://leport.ch/wp-content/uploads/2026/02/257A9515-scaled.jpg
END:VEVENT
BEGIN:VEVENT
DTSTART;TZID=Europe/Paris:20260820T200000
DTEND;TZID=Europe/Paris:20260820T202000
DTSTAMP:20260425T142142
CREATED:20260420T094332Z
LAST-MODIFIED:20260420T094332Z
UID:10003736-1787256000-1787257200@leport.ch
SUMMARY:Animation RFI – « Benja Gasy »\, Madagascar
DESCRIPTION:
URL:https://leport.ch/event/animation-rfi-benja-gasy-madagascar/
CATEGORIES:Scène
ATTACH;FMTTYPE=image/jpeg:https://leport.ch/wp-content/uploads/2026/02/Madagascar-2026-photo-officielle-2-scaled.jpg
END:VEVENT
BEGIN:VEVENT
DTSTART;TZID=Europe/Paris:20260821T090000
DTEND;TZID=Europe/Paris:20260821T090000
DTSTAMP:20260425T142142
CREATED:20260420T101826Z
LAST-MODIFIED:20260420T101826Z
UID:10003615-1787302800-1787302800@leport.ch
SUMMARY:Taï-chi
DESCRIPTION:
URL:https://leport.ch/event/tai-chi-2/2026-08-21/
CATEGORIES:Expériences Collectives
ATTACH;FMTTYPE=image/jpeg:https://leport.ch/wp-content/uploads/2026/02/Tai-Chi_Photo.jpg
END:VEVENT
BEGIN:VEVENT
DTSTART;TZID=Europe/Paris:20260821T180000
DTEND;TZID=Europe/Paris:20260821T190000
DTSTAMP:20260425T142142
CREATED:20260420T094326Z
LAST-MODIFIED:20260420T094326Z
UID:10003719-1787335200-1787338800@leport.ch
SUMMARY:Il était une fois… l’Afghanistan
DESCRIPTION:
URL:https://leport.ch/event/il-etait-une-fois-lafghanistan/
CATEGORIES:Expositions
ATTACH;FMTTYPE=image/jpeg:https://leport.ch/wp-content/uploads/2026/03/Screenshot_20260325_191809_Gallery.jpg
END:VEVENT
BEGIN:VEVENT
DTSTART;TZID=Europe/Paris:20260823T093000
DTEND;TZID=Europe/Paris:20260823T103000
DTSTAMP:20260425T142142
CREATED:20260212T073700Z
LAST-MODIFIED:20260423T054956Z
UID:10003492-1787477400-1787481000@leport.ch
SUMMARY:Yoga Morning Flow
DESCRIPTION:
URL:https://leport.ch/event/yoga-morning-flow/2026-08-23/
CATEGORIES:Expériences Collectives
ATTACH;FMTTYPE=image/jpeg:https://leport.ch/wp-content/uploads/2026/02/IMG_6326.jpg
END:VEVENT
BEGIN:VEVENT
DTSTART;TZID=Europe/Paris:20260823T180000
DTEND;TZID=Europe/Paris:20260823T190000
DTSTAMP:20260425T142142
CREATED:20260420T094321Z
LAST-MODIFIED:20260420T094321Z
UID:10003737-1787508000-1787511600@leport.ch
SUMMARY:Contes à rebours : s’il était une fois le temps ?
DESCRIPTION:
URL:https://leport.ch/event/contes-a-rebours-sil-etait-une-fois-le-temps/
CATEGORIES:Expériences Collectives
ATTACH;FMTTYPE=image/jpeg:https://leport.ch/wp-content/uploads/2026/02/ContesARebours_titre.jpg
END:VEVENT
BEGIN:VEVENT
DTSTART;TZID=Europe/Paris:20260825T170000
DTEND;TZID=Europe/Paris:20260825T183000
DTSTAMP:20260425T142142
CREATED:20260420T101737Z
LAST-MODIFIED:20260420T101737Z
UID:10003762-1787677200-1787682600@leport.ch
SUMMARY:Broder ses envies
DESCRIPTION:
URL:https://leport.ch/event/broder-ses-envies/2026-08-25/
CATEGORIES:Expériences Collectives
ATTACH;FMTTYPE=image/jpeg:https://leport.ch/wp-content/uploads/2026/02/Screenshot_20260205_120822_Chrome-scaled.jpg
END:VEVENT
BEGIN:VEVENT
DTSTART;TZID=Europe/Paris:20260825T170000
DTEND;TZID=Europe/Paris:20260825T220000
DTSTAMP:20260425T142142
CREATED:20260420T094610Z
LAST-MODIFIED:20260420T094610Z
UID:10003726-1787677200-1787695200@leport.ch
SUMMARY:Soirée jeux de société - L'île aux trésors
DESCRIPTION:
URL:https://leport.ch/event/soiree-jeux-de-societe-lile-aux-tresors/2026-08-25/
CATEGORIES:Expériences Collectives
ATTACH;FMTTYPE=image/jpeg:https://leport.ch/wp-content/uploads/2026/02/IMG_0005-scaled.jpg
END:VEVENT
END:VCALENDAR