BEGIN:VCALENDAR
VERSION:2.0
PRODID:-//Le Port de Fribourg - ECPv6.15.20//NONSGML v1.0//EN
CALSCALE:GREGORIAN
METHOD:PUBLISH
X-ORIGINAL-URL:https://leport.ch
X-WR-CALDESC:Évènements pour Le Port de Fribourg
REFRESH-INTERVAL;VALUE=DURATION:PT1H
X-Robots-Tag:noindex
X-PUBLISHED-TTL:PT1H
BEGIN:VTIMEZONE
TZID:Europe/Paris
BEGIN:DAYLIGHT
TZOFFSETFROM:+0100
TZOFFSETTO:+0200
TZNAME:CEST
DTSTART:20250330T010000
END:DAYLIGHT
BEGIN:STANDARD
TZOFFSETFROM:+0200
TZOFFSETTO:+0100
TZNAME:CET
DTSTART:20251026T010000
END:STANDARD
BEGIN:DAYLIGHT
TZOFFSETFROM:+0100
TZOFFSETTO:+0200
TZNAME:CEST
DTSTART:20260329T010000
END:DAYLIGHT
BEGIN:STANDARD
TZOFFSETFROM:+0200
TZOFFSETTO:+0100
TZNAME:CET
DTSTART:20261025T010000
END:STANDARD
BEGIN:DAYLIGHT
TZOFFSETFROM:+0100
TZOFFSETTO:+0200
TZNAME:CEST
DTSTART:20270328T010000
END:DAYLIGHT
BEGIN:STANDARD
TZOFFSETFROM:+0200
TZOFFSETTO:+0100
TZNAME:CET
DTSTART:20271031T010000
END:STANDARD
END:VTIMEZONE
BEGIN:VEVENT
DTSTART;TZID=Europe/Paris:20261202T200000
DTEND;TZID=Europe/Paris:20261202T200000
DTSTAMP:20260425T184050
CREATED:20260420T102018Z
LAST-MODIFIED:20260420T102018Z
UID:10003821-1796241600-1796241600@leport.ch
SUMMARY:Atelier découverte de la céramique
DESCRIPTION:
URL:https://leport.ch/event/atelier-decouverte-de-la-ceramique/2026-12-02/
CATEGORIES:Expériences Collectives
ATTACH;FMTTYPE=image/jpeg:https://leport.ch/wp-content/uploads/2026/02/ceramique.jpg
END:VEVENT
BEGIN:VEVENT
DTSTART;TZID=Europe/Paris:20261204T090000
DTEND;TZID=Europe/Paris:20261204T090000
DTSTAMP:20260425T184050
CREATED:20260420T101826Z
LAST-MODIFIED:20260420T101826Z
UID:10003630-1796374800-1796374800@leport.ch
SUMMARY:Taï-chi
DESCRIPTION:
URL:https://leport.ch/event/tai-chi-2/2026-12-04/
CATEGORIES:Expériences Collectives
ATTACH;FMTTYPE=image/jpeg:https://leport.ch/wp-content/uploads/2026/02/Tai-Chi_Photo.jpg
END:VEVENT
BEGIN:VEVENT
DTSTART;TZID=Europe/Paris:20261209T200000
DTEND;TZID=Europe/Paris:20261209T200000
DTSTAMP:20260425T184050
CREATED:20260420T102018Z
LAST-MODIFIED:20260420T102018Z
UID:10003822-1796846400-1796846400@leport.ch
SUMMARY:Atelier découverte de la céramique
DESCRIPTION:
URL:https://leport.ch/event/atelier-decouverte-de-la-ceramique/2026-12-09/
CATEGORIES:Expériences Collectives
ATTACH;FMTTYPE=image/jpeg:https://leport.ch/wp-content/uploads/2026/02/ceramique.jpg
END:VEVENT
BEGIN:VEVENT
DTSTART;TZID=Europe/Paris:20261211T090000
DTEND;TZID=Europe/Paris:20261211T090000
DTSTAMP:20260425T184050
CREATED:20260420T101826Z
LAST-MODIFIED:20260420T101826Z
UID:10003631-1796979600-1796979600@leport.ch
SUMMARY:Taï-chi
DESCRIPTION:
URL:https://leport.ch/event/tai-chi-2/2026-12-11/
CATEGORIES:Expériences Collectives
ATTACH;FMTTYPE=image/jpeg:https://leport.ch/wp-content/uploads/2026/02/Tai-Chi_Photo.jpg
END:VEVENT
BEGIN:VEVENT
DTSTART;TZID=Europe/Paris:20261216T200000
DTEND;TZID=Europe/Paris:20261216T200000
DTSTAMP:20260425T184050
CREATED:20260420T102018Z
LAST-MODIFIED:20260420T102018Z
UID:10003823-1797451200-1797451200@leport.ch
SUMMARY:Atelier découverte de la céramique
DESCRIPTION:
URL:https://leport.ch/event/atelier-decouverte-de-la-ceramique/2026-12-16/
CATEGORIES:Expériences Collectives
ATTACH;FMTTYPE=image/jpeg:https://leport.ch/wp-content/uploads/2026/02/ceramique.jpg
END:VEVENT
BEGIN:VEVENT
DTSTART;TZID=Europe/Paris:20261218T090000
DTEND;TZID=Europe/Paris:20261218T090000
DTSTAMP:20260425T184050
CREATED:20260420T101826Z
LAST-MODIFIED:20260420T101826Z
UID:10003632-1797584400-1797584400@leport.ch
SUMMARY:Taï-chi
DESCRIPTION:
URL:https://leport.ch/event/tai-chi-2/2026-12-18/
CATEGORIES:Expériences Collectives
ATTACH;FMTTYPE=image/jpeg:https://leport.ch/wp-content/uploads/2026/02/Tai-Chi_Photo.jpg
END:VEVENT
BEGIN:VEVENT
DTSTART;TZID=Europe/Paris:20261223T200000
DTEND;TZID=Europe/Paris:20261223T200000
DTSTAMP:20260425T184050
CREATED:20260420T102018Z
LAST-MODIFIED:20260420T102018Z
UID:10003824-1798056000-1798056000@leport.ch
SUMMARY:Atelier découverte de la céramique
DESCRIPTION:
URL:https://leport.ch/event/atelier-decouverte-de-la-ceramique/2026-12-23/
CATEGORIES:Expériences Collectives
ATTACH;FMTTYPE=image/jpeg:https://leport.ch/wp-content/uploads/2026/02/ceramique.jpg
END:VEVENT
BEGIN:VEVENT
DTSTART;TZID=Europe/Paris:20261225T090000
DTEND;TZID=Europe/Paris:20261225T090000
DTSTAMP:20260425T184050
CREATED:20260420T101826Z
LAST-MODIFIED:20260420T101826Z
UID:10003633-1798189200-1798189200@leport.ch
SUMMARY:Taï-chi
DESCRIPTION:
URL:https://leport.ch/event/tai-chi-2/2026-12-25/
CATEGORIES:Expériences Collectives
ATTACH;FMTTYPE=image/jpeg:https://leport.ch/wp-content/uploads/2026/02/Tai-Chi_Photo.jpg
END:VEVENT
BEGIN:VEVENT
DTSTART;TZID=Europe/Paris:20261230T200000
DTEND;TZID=Europe/Paris:20261230T200000
DTSTAMP:20260425T184050
CREATED:20260420T102018Z
LAST-MODIFIED:20260420T102018Z
UID:10003825-1798660800-1798660800@leport.ch
SUMMARY:Atelier découverte de la céramique
DESCRIPTION:
URL:https://leport.ch/event/atelier-decouverte-de-la-ceramique/2026-12-30/
CATEGORIES:Expériences Collectives
ATTACH;FMTTYPE=image/jpeg:https://leport.ch/wp-content/uploads/2026/02/ceramique.jpg
END:VEVENT
END:VCALENDAR