BEGIN:VCALENDAR
VERSION:2.0
PRODID:-//Le Port de Fribourg - ECPv6.15.20//NONSGML v1.0//EN
CALSCALE:GREGORIAN
METHOD:PUBLISH
X-WR-CALNAME:Le Port de Fribourg
X-ORIGINAL-URL:https://leport.ch
X-WR-CALDESC:Évènements pour Le Port de Fribourg
REFRESH-INTERVAL;VALUE=DURATION:PT1H
X-Robots-Tag:noindex
X-PUBLISHED-TTL:PT1H
BEGIN:VTIMEZONE
TZID:Europe/Paris
BEGIN:DAYLIGHT
TZOFFSETFROM:+0100
TZOFFSETTO:+0200
TZNAME:CEST
DTSTART:20250330T010000
END:DAYLIGHT
BEGIN:STANDARD
TZOFFSETFROM:+0200
TZOFFSETTO:+0100
TZNAME:CET
DTSTART:20251026T010000
END:STANDARD
BEGIN:DAYLIGHT
TZOFFSETFROM:+0100
TZOFFSETTO:+0200
TZNAME:CEST
DTSTART:20260329T010000
END:DAYLIGHT
BEGIN:STANDARD
TZOFFSETFROM:+0200
TZOFFSETTO:+0100
TZNAME:CET
DTSTART:20261025T010000
END:STANDARD
BEGIN:DAYLIGHT
TZOFFSETFROM:+0100
TZOFFSETTO:+0200
TZNAME:CEST
DTSTART:20270328T010000
END:DAYLIGHT
BEGIN:STANDARD
TZOFFSETFROM:+0200
TZOFFSETTO:+0100
TZNAME:CET
DTSTART:20271031T010000
END:STANDARD
END:VTIMEZONE
BEGIN:VEVENT
DTSTART;TZID=Europe/Paris:20260515T090000
DTEND;TZID=Europe/Paris:20260515T090000
DTSTAMP:20260420T200301
CREATED:20260420T101826Z
LAST-MODIFIED:20260420T101826Z
UID:10003601-1778835600-1778835600@leport.ch
SUMMARY:Taï-chi
DESCRIPTION:
URL:https://leport.ch/event/tai-chi-2/2026-05-15/
CATEGORIES:Expériences Collectives
ATTACH;FMTTYPE=image/jpeg:https://leport.ch/wp-content/uploads/2026/02/Tai-Chi_Photo.jpg
END:VEVENT
BEGIN:VEVENT
DTSTART;TZID=Europe/Paris:20260522T090000
DTEND;TZID=Europe/Paris:20260522T090000
DTSTAMP:20260420T200301
CREATED:20260420T101826Z
LAST-MODIFIED:20260420T101826Z
UID:10003602-1779440400-1779440400@leport.ch
SUMMARY:Taï-chi
DESCRIPTION:
URL:https://leport.ch/event/tai-chi-2/2026-05-22/
CATEGORIES:Expériences Collectives
ATTACH;FMTTYPE=image/jpeg:https://leport.ch/wp-content/uploads/2026/02/Tai-Chi_Photo.jpg
END:VEVENT
BEGIN:VEVENT
DTSTART;TZID=Europe/Paris:20260529T090000
DTEND;TZID=Europe/Paris:20260529T090000
DTSTAMP:20260420T200301
CREATED:20260420T101826Z
LAST-MODIFIED:20260420T101826Z
UID:10003603-1780045200-1780045200@leport.ch
SUMMARY:Taï-chi
DESCRIPTION:
URL:https://leport.ch/event/tai-chi-2/2026-05-29/
CATEGORIES:Expériences Collectives
ATTACH;FMTTYPE=image/jpeg:https://leport.ch/wp-content/uploads/2026/02/Tai-Chi_Photo.jpg
END:VEVENT
BEGIN:VEVENT
DTSTART;TZID=Europe/Paris:20260605T090000
DTEND;TZID=Europe/Paris:20260605T090000
DTSTAMP:20260420T200301
CREATED:20260420T101826Z
LAST-MODIFIED:20260420T101826Z
UID:10003604-1780650000-1780650000@leport.ch
SUMMARY:Taï-chi
DESCRIPTION:
URL:https://leport.ch/event/tai-chi-2/2026-06-05/
CATEGORIES:Expériences Collectives
ATTACH;FMTTYPE=image/jpeg:https://leport.ch/wp-content/uploads/2026/02/Tai-Chi_Photo.jpg
END:VEVENT
BEGIN:VEVENT
DTSTART;TZID=Europe/Paris:20260612T090000
DTEND;TZID=Europe/Paris:20260612T090000
DTSTAMP:20260420T200301
CREATED:20260420T101826Z
LAST-MODIFIED:20260420T101826Z
UID:10003605-1781254800-1781254800@leport.ch
SUMMARY:Taï-chi
DESCRIPTION:
URL:https://leport.ch/event/tai-chi-2/2026-06-12/
CATEGORIES:Expériences Collectives
ATTACH;FMTTYPE=image/jpeg:https://leport.ch/wp-content/uploads/2026/02/Tai-Chi_Photo.jpg
END:VEVENT
BEGIN:VEVENT
DTSTART;TZID=Europe/Paris:20260619T090000
DTEND;TZID=Europe/Paris:20260619T090000
DTSTAMP:20260420T200301
CREATED:20260420T101826Z
LAST-MODIFIED:20260420T101826Z
UID:10003606-1781859600-1781859600@leport.ch
SUMMARY:Taï-chi
DESCRIPTION:
URL:https://leport.ch/event/tai-chi-2/2026-06-19/
CATEGORIES:Expériences Collectives
ATTACH;FMTTYPE=image/jpeg:https://leport.ch/wp-content/uploads/2026/02/Tai-Chi_Photo.jpg
END:VEVENT
BEGIN:VEVENT
DTSTART;TZID=Europe/Paris:20260626T090000
DTEND;TZID=Europe/Paris:20260626T090000
DTSTAMP:20260420T200301
CREATED:20260420T101826Z
LAST-MODIFIED:20260420T101826Z
UID:10003607-1782464400-1782464400@leport.ch
SUMMARY:Taï-chi
DESCRIPTION:
URL:https://leport.ch/event/tai-chi-2/2026-06-26/
CATEGORIES:Expériences Collectives
ATTACH;FMTTYPE=image/jpeg:https://leport.ch/wp-content/uploads/2026/02/Tai-Chi_Photo.jpg
END:VEVENT
BEGIN:VEVENT
DTSTART;TZID=Europe/Paris:20260703T090000
DTEND;TZID=Europe/Paris:20260703T090000
DTSTAMP:20260420T200301
CREATED:20260420T101826Z
LAST-MODIFIED:20260420T101826Z
UID:10003608-1783069200-1783069200@leport.ch
SUMMARY:Taï-chi
DESCRIPTION:
URL:https://leport.ch/event/tai-chi-2/2026-07-03/
CATEGORIES:Expériences Collectives
ATTACH;FMTTYPE=image/jpeg:https://leport.ch/wp-content/uploads/2026/02/Tai-Chi_Photo.jpg
END:VEVENT
BEGIN:VEVENT
DTSTART;TZID=Europe/Paris:20260710T090000
DTEND;TZID=Europe/Paris:20260710T090000
DTSTAMP:20260420T200301
CREATED:20260420T101826Z
LAST-MODIFIED:20260420T101826Z
UID:10003609-1783674000-1783674000@leport.ch
SUMMARY:Taï-chi
DESCRIPTION:
URL:https://leport.ch/event/tai-chi-2/2026-07-10/
CATEGORIES:Expériences Collectives
ATTACH;FMTTYPE=image/jpeg:https://leport.ch/wp-content/uploads/2026/02/Tai-Chi_Photo.jpg
END:VEVENT
BEGIN:VEVENT
DTSTART;TZID=Europe/Paris:20260717T090000
DTEND;TZID=Europe/Paris:20260717T090000
DTSTAMP:20260420T200301
CREATED:20260420T101826Z
LAST-MODIFIED:20260420T101826Z
UID:10003610-1784278800-1784278800@leport.ch
SUMMARY:Taï-chi
DESCRIPTION:
URL:https://leport.ch/event/tai-chi-2/2026-07-17/
CATEGORIES:Expériences Collectives
ATTACH;FMTTYPE=image/jpeg:https://leport.ch/wp-content/uploads/2026/02/Tai-Chi_Photo.jpg
END:VEVENT
BEGIN:VEVENT
DTSTART;TZID=Europe/Paris:20260724T090000
DTEND;TZID=Europe/Paris:20260724T090000
DTSTAMP:20260420T200301
CREATED:20260420T101826Z
LAST-MODIFIED:20260420T101826Z
UID:10003611-1784883600-1784883600@leport.ch
SUMMARY:Taï-chi
DESCRIPTION:
URL:https://leport.ch/event/tai-chi-2/2026-07-24/
CATEGORIES:Expériences Collectives
ATTACH;FMTTYPE=image/jpeg:https://leport.ch/wp-content/uploads/2026/02/Tai-Chi_Photo.jpg
END:VEVENT
BEGIN:VEVENT
DTSTART;TZID=Europe/Paris:20260731T090000
DTEND;TZID=Europe/Paris:20260731T090000
DTSTAMP:20260420T200301
CREATED:20260420T101826Z
LAST-MODIFIED:20260420T101826Z
UID:10003612-1785488400-1785488400@leport.ch
SUMMARY:Taï-chi
DESCRIPTION:
URL:https://leport.ch/event/tai-chi-2/2026-07-31/
CATEGORIES:Expériences Collectives
ATTACH;FMTTYPE=image/jpeg:https://leport.ch/wp-content/uploads/2026/02/Tai-Chi_Photo.jpg
END:VEVENT
BEGIN:VEVENT
DTSTART;TZID=Europe/Paris:20260807T090000
DTEND;TZID=Europe/Paris:20260807T090000
DTSTAMP:20260420T200301
CREATED:20260420T101826Z
LAST-MODIFIED:20260420T101826Z
UID:10003613-1786093200-1786093200@leport.ch
SUMMARY:Taï-chi
DESCRIPTION:
URL:https://leport.ch/event/tai-chi-2/2026-08-07/
CATEGORIES:Expériences Collectives
ATTACH;FMTTYPE=image/jpeg:https://leport.ch/wp-content/uploads/2026/02/Tai-Chi_Photo.jpg
END:VEVENT
BEGIN:VEVENT
DTSTART;TZID=Europe/Paris:20260814T090000
DTEND;TZID=Europe/Paris:20260814T090000
DTSTAMP:20260420T200301
CREATED:20260420T101826Z
LAST-MODIFIED:20260420T101826Z
UID:10003614-1786698000-1786698000@leport.ch
SUMMARY:Taï-chi
DESCRIPTION:
URL:https://leport.ch/event/tai-chi-2/2026-08-14/
CATEGORIES:Expériences Collectives
ATTACH;FMTTYPE=image/jpeg:https://leport.ch/wp-content/uploads/2026/02/Tai-Chi_Photo.jpg
END:VEVENT
BEGIN:VEVENT
DTSTART;TZID=Europe/Paris:20260821T090000
DTEND;TZID=Europe/Paris:20260821T090000
DTSTAMP:20260420T200301
CREATED:20260420T101826Z
LAST-MODIFIED:20260420T101826Z
UID:10003615-1787302800-1787302800@leport.ch
SUMMARY:Taï-chi
DESCRIPTION:
URL:https://leport.ch/event/tai-chi-2/2026-08-21/
CATEGORIES:Expériences Collectives
ATTACH;FMTTYPE=image/jpeg:https://leport.ch/wp-content/uploads/2026/02/Tai-Chi_Photo.jpg
END:VEVENT
BEGIN:VEVENT
DTSTART;TZID=Europe/Paris:20260828T090000
DTEND;TZID=Europe/Paris:20260828T090000
DTSTAMP:20260420T200301
CREATED:20260420T101826Z
LAST-MODIFIED:20260420T101826Z
UID:10003616-1787907600-1787907600@leport.ch
SUMMARY:Taï-chi
DESCRIPTION:
URL:https://leport.ch/event/tai-chi-2/2026-08-28/
CATEGORIES:Expériences Collectives
ATTACH;FMTTYPE=image/jpeg:https://leport.ch/wp-content/uploads/2026/02/Tai-Chi_Photo.jpg
END:VEVENT
BEGIN:VEVENT
DTSTART;TZID=Europe/Paris:20260904T090000
DTEND;TZID=Europe/Paris:20260904T090000
DTSTAMP:20260420T200301
CREATED:20260420T101826Z
LAST-MODIFIED:20260420T101826Z
UID:10003617-1788512400-1788512400@leport.ch
SUMMARY:Taï-chi
DESCRIPTION:
URL:https://leport.ch/event/tai-chi-2/2026-09-04/
CATEGORIES:Expériences Collectives
ATTACH;FMTTYPE=image/jpeg:https://leport.ch/wp-content/uploads/2026/02/Tai-Chi_Photo.jpg
END:VEVENT
BEGIN:VEVENT
DTSTART;TZID=Europe/Paris:20260911T090000
DTEND;TZID=Europe/Paris:20260911T090000
DTSTAMP:20260420T200301
CREATED:20260420T101826Z
LAST-MODIFIED:20260420T101826Z
UID:10003618-1789117200-1789117200@leport.ch
SUMMARY:Taï-chi
DESCRIPTION:
URL:https://leport.ch/event/tai-chi-2/2026-09-11/
CATEGORIES:Expériences Collectives
ATTACH;FMTTYPE=image/jpeg:https://leport.ch/wp-content/uploads/2026/02/Tai-Chi_Photo.jpg
END:VEVENT
BEGIN:VEVENT
DTSTART;TZID=Europe/Paris:20260918T090000
DTEND;TZID=Europe/Paris:20260918T090000
DTSTAMP:20260420T200301
CREATED:20260420T101826Z
LAST-MODIFIED:20260420T101826Z
UID:10003619-1789722000-1789722000@leport.ch
SUMMARY:Taï-chi
DESCRIPTION:
URL:https://leport.ch/event/tai-chi-2/2026-09-18/
CATEGORIES:Expériences Collectives
ATTACH;FMTTYPE=image/jpeg:https://leport.ch/wp-content/uploads/2026/02/Tai-Chi_Photo.jpg
END:VEVENT
BEGIN:VEVENT
DTSTART;TZID=Europe/Paris:20260925T090000
DTEND;TZID=Europe/Paris:20260925T090000
DTSTAMP:20260420T200301
CREATED:20260420T101826Z
LAST-MODIFIED:20260420T101826Z
UID:10003620-1790326800-1790326800@leport.ch
SUMMARY:Taï-chi
DESCRIPTION:
URL:https://leport.ch/event/tai-chi-2/2026-09-25/
CATEGORIES:Expériences Collectives
ATTACH;FMTTYPE=image/jpeg:https://leport.ch/wp-content/uploads/2026/02/Tai-Chi_Photo.jpg
END:VEVENT
BEGIN:VEVENT
DTSTART;TZID=Europe/Paris:20261002T090000
DTEND;TZID=Europe/Paris:20261002T090000
DTSTAMP:20260420T200301
CREATED:20260420T101826Z
LAST-MODIFIED:20260420T101826Z
UID:10003621-1790931600-1790931600@leport.ch
SUMMARY:Taï-chi
DESCRIPTION:
URL:https://leport.ch/event/tai-chi-2/2026-10-02/
CATEGORIES:Expériences Collectives
ATTACH;FMTTYPE=image/jpeg:https://leport.ch/wp-content/uploads/2026/02/Tai-Chi_Photo.jpg
END:VEVENT
BEGIN:VEVENT
DTSTART;TZID=Europe/Paris:20261009T090000
DTEND;TZID=Europe/Paris:20261009T090000
DTSTAMP:20260420T200301
CREATED:20260420T101826Z
LAST-MODIFIED:20260420T101826Z
UID:10003622-1791536400-1791536400@leport.ch
SUMMARY:Taï-chi
DESCRIPTION:
URL:https://leport.ch/event/tai-chi-2/2026-10-09/
CATEGORIES:Expériences Collectives
ATTACH;FMTTYPE=image/jpeg:https://leport.ch/wp-content/uploads/2026/02/Tai-Chi_Photo.jpg
END:VEVENT
BEGIN:VEVENT
DTSTART;TZID=Europe/Paris:20261016T090000
DTEND;TZID=Europe/Paris:20261016T090000
DTSTAMP:20260420T200301
CREATED:20260420T101826Z
LAST-MODIFIED:20260420T101826Z
UID:10003623-1792141200-1792141200@leport.ch
SUMMARY:Taï-chi
DESCRIPTION:
URL:https://leport.ch/event/tai-chi-2/2026-10-16/
CATEGORIES:Expériences Collectives
ATTACH;FMTTYPE=image/jpeg:https://leport.ch/wp-content/uploads/2026/02/Tai-Chi_Photo.jpg
END:VEVENT
BEGIN:VEVENT
DTSTART;TZID=Europe/Paris:20261023T090000
DTEND;TZID=Europe/Paris:20261023T090000
DTSTAMP:20260420T200301
CREATED:20260420T101826Z
LAST-MODIFIED:20260420T101826Z
UID:10003624-1792746000-1792746000@leport.ch
SUMMARY:Taï-chi
DESCRIPTION:
URL:https://leport.ch/event/tai-chi-2/2026-10-23/
CATEGORIES:Expériences Collectives
ATTACH;FMTTYPE=image/jpeg:https://leport.ch/wp-content/uploads/2026/02/Tai-Chi_Photo.jpg
END:VEVENT
BEGIN:VEVENT
DTSTART;TZID=Europe/Paris:20261030T090000
DTEND;TZID=Europe/Paris:20261030T090000
DTSTAMP:20260420T200301
CREATED:20260420T101826Z
LAST-MODIFIED:20260420T101826Z
UID:10003625-1793350800-1793350800@leport.ch
SUMMARY:Taï-chi
DESCRIPTION:
URL:https://leport.ch/event/tai-chi-2/2026-10-30/
CATEGORIES:Expériences Collectives
ATTACH;FMTTYPE=image/jpeg:https://leport.ch/wp-content/uploads/2026/02/Tai-Chi_Photo.jpg
END:VEVENT
BEGIN:VEVENT
DTSTART;TZID=Europe/Paris:20261106T090000
DTEND;TZID=Europe/Paris:20261106T090000
DTSTAMP:20260420T200301
CREATED:20260420T101826Z
LAST-MODIFIED:20260420T101826Z
UID:10003626-1793955600-1793955600@leport.ch
SUMMARY:Taï-chi
DESCRIPTION:
URL:https://leport.ch/event/tai-chi-2/2026-11-06/
CATEGORIES:Expériences Collectives
ATTACH;FMTTYPE=image/jpeg:https://leport.ch/wp-content/uploads/2026/02/Tai-Chi_Photo.jpg
END:VEVENT
BEGIN:VEVENT
DTSTART;TZID=Europe/Paris:20261113T090000
DTEND;TZID=Europe/Paris:20261113T090000
DTSTAMP:20260420T200301
CREATED:20260420T101826Z
LAST-MODIFIED:20260420T101826Z
UID:10003627-1794560400-1794560400@leport.ch
SUMMARY:Taï-chi
DESCRIPTION:
URL:https://leport.ch/event/tai-chi-2/2026-11-13/
CATEGORIES:Expériences Collectives
ATTACH;FMTTYPE=image/jpeg:https://leport.ch/wp-content/uploads/2026/02/Tai-Chi_Photo.jpg
END:VEVENT
BEGIN:VEVENT
DTSTART;TZID=Europe/Paris:20261120T090000
DTEND;TZID=Europe/Paris:20261120T090000
DTSTAMP:20260420T200301
CREATED:20260420T101826Z
LAST-MODIFIED:20260420T101826Z
UID:10003628-1795165200-1795165200@leport.ch
SUMMARY:Taï-chi
DESCRIPTION:
URL:https://leport.ch/event/tai-chi-2/2026-11-20/
CATEGORIES:Expériences Collectives
ATTACH;FMTTYPE=image/jpeg:https://leport.ch/wp-content/uploads/2026/02/Tai-Chi_Photo.jpg
END:VEVENT
BEGIN:VEVENT
DTSTART;TZID=Europe/Paris:20261127T090000
DTEND;TZID=Europe/Paris:20261127T090000
DTSTAMP:20260420T200301
CREATED:20260420T101826Z
LAST-MODIFIED:20260420T101826Z
UID:10003629-1795770000-1795770000@leport.ch
SUMMARY:Taï-chi
DESCRIPTION:
URL:https://leport.ch/event/tai-chi-2/2026-11-27/
CATEGORIES:Expériences Collectives
ATTACH;FMTTYPE=image/jpeg:https://leport.ch/wp-content/uploads/2026/02/Tai-Chi_Photo.jpg
END:VEVENT
BEGIN:VEVENT
DTSTART;TZID=Europe/Paris:20261204T090000
DTEND;TZID=Europe/Paris:20261204T090000
DTSTAMP:20260420T200301
CREATED:20260420T101826Z
LAST-MODIFIED:20260420T101826Z
UID:10003630-1796374800-1796374800@leport.ch
SUMMARY:Taï-chi
DESCRIPTION:
URL:https://leport.ch/event/tai-chi-2/2026-12-04/
CATEGORIES:Expériences Collectives
ATTACH;FMTTYPE=image/jpeg:https://leport.ch/wp-content/uploads/2026/02/Tai-Chi_Photo.jpg
END:VEVENT
END:VCALENDAR