BEGIN:VCALENDAR
VERSION:2.0
PRODID:-//Le Port de Fribourg - ECPv6.15.20//NONSGML v1.0//EN
CALSCALE:GREGORIAN
METHOD:PUBLISH
X-WR-CALNAME:Le Port de Fribourg
X-ORIGINAL-URL:https://leport.ch
X-WR-CALDESC:Évènements pour Le Port de Fribourg
REFRESH-INTERVAL;VALUE=DURATION:PT1H
X-Robots-Tag:noindex
X-PUBLISHED-TTL:PT1H
BEGIN:VTIMEZONE
TZID:Europe/Paris
BEGIN:DAYLIGHT
TZOFFSETFROM:+0100
TZOFFSETTO:+0200
TZNAME:CEST
DTSTART:20250330T010000
END:DAYLIGHT
BEGIN:STANDARD
TZOFFSETFROM:+0200
TZOFFSETTO:+0100
TZNAME:CET
DTSTART:20251026T010000
END:STANDARD
BEGIN:DAYLIGHT
TZOFFSETFROM:+0100
TZOFFSETTO:+0200
TZNAME:CEST
DTSTART:20260329T010000
END:DAYLIGHT
BEGIN:STANDARD
TZOFFSETFROM:+0200
TZOFFSETTO:+0100
TZNAME:CET
DTSTART:20261025T010000
END:STANDARD
BEGIN:DAYLIGHT
TZOFFSETFROM:+0100
TZOFFSETTO:+0200
TZNAME:CEST
DTSTART:20270328T010000
END:DAYLIGHT
BEGIN:STANDARD
TZOFFSETFROM:+0200
TZOFFSETTO:+0100
TZNAME:CET
DTSTART:20271031T010000
END:STANDARD
END:VTIMEZONE
BEGIN:VEVENT
DTSTART;TZID=Europe/Paris:20260623T170000
DTEND;TZID=Europe/Paris:20260623T220000
DTSTAMP:20260420T212245
CREATED:20260420T094610Z
LAST-MODIFIED:20260420T094610Z
UID:10003724-1782234000-1782252000@leport.ch
SUMMARY:Soirée jeux de société - L'île aux trésors
DESCRIPTION:
URL:https://leport.ch/event/soiree-jeux-de-societe-lile-aux-tresors/2026-06-23/
CATEGORIES:Expériences Collectives
ATTACH;FMTTYPE=image/jpeg:https://leport.ch/wp-content/uploads/2026/02/IMG_0005-scaled.jpg
END:VEVENT
BEGIN:VEVENT
DTSTART;TZID=Europe/Paris:20260707T170000
DTEND;TZID=Europe/Paris:20260707T220000
DTSTAMP:20260420T212245
CREATED:20260420T094610Z
LAST-MODIFIED:20260420T094610Z
UID:10003725-1783443600-1783461600@leport.ch
SUMMARY:Soirée jeux de société - L'île aux trésors
DESCRIPTION:
URL:https://leport.ch/event/soiree-jeux-de-societe-lile-aux-tresors/2026-07-07/
CATEGORIES:Expériences Collectives
ATTACH;FMTTYPE=image/jpeg:https://leport.ch/wp-content/uploads/2026/02/IMG_0005-scaled.jpg
END:VEVENT
BEGIN:VEVENT
DTSTART;TZID=Europe/Paris:20260825T170000
DTEND;TZID=Europe/Paris:20260825T220000
DTSTAMP:20260420T212245
CREATED:20260420T094610Z
LAST-MODIFIED:20260420T094610Z
UID:10003726-1787677200-1787695200@leport.ch
SUMMARY:Soirée jeux de société - L'île aux trésors
DESCRIPTION:
URL:https://leport.ch/event/soiree-jeux-de-societe-lile-aux-tresors/2026-08-25/
CATEGORIES:Expériences Collectives
ATTACH;FMTTYPE=image/jpeg:https://leport.ch/wp-content/uploads/2026/02/IMG_0005-scaled.jpg
END:VEVENT
END:VCALENDAR