BEGIN:VCALENDAR
VERSION:2.0
PRODID:-//Le Port de Fribourg - ECPv6.15.20//NONSGML v1.0//EN
CALSCALE:GREGORIAN
METHOD:PUBLISH
X-WR-CALNAME:Le Port de Fribourg
X-ORIGINAL-URL:https://leport.ch
X-WR-CALDESC:Évènements pour Le Port de Fribourg
REFRESH-INTERVAL;VALUE=DURATION:PT1H
X-Robots-Tag:noindex
X-PUBLISHED-TTL:PT1H
BEGIN:VTIMEZONE
TZID:Europe/Paris
BEGIN:DAYLIGHT
TZOFFSETFROM:+0100
TZOFFSETTO:+0200
TZNAME:CEST
DTSTART:20250330T010000
END:DAYLIGHT
BEGIN:STANDARD
TZOFFSETFROM:+0200
TZOFFSETTO:+0100
TZNAME:CET
DTSTART:20251026T010000
END:STANDARD
BEGIN:DAYLIGHT
TZOFFSETFROM:+0100
TZOFFSETTO:+0200
TZNAME:CEST
DTSTART:20260329T010000
END:DAYLIGHT
BEGIN:STANDARD
TZOFFSETFROM:+0200
TZOFFSETTO:+0100
TZNAME:CET
DTSTART:20261025T010000
END:STANDARD
BEGIN:DAYLIGHT
TZOFFSETFROM:+0100
TZOFFSETTO:+0200
TZNAME:CEST
DTSTART:20270328T010000
END:DAYLIGHT
BEGIN:STANDARD
TZOFFSETFROM:+0200
TZOFFSETTO:+0100
TZNAME:CET
DTSTART:20271031T010000
END:STANDARD
END:VTIMEZONE
BEGIN:VEVENT
DTSTART;TZID=Europe/Paris:20260829T110000
DTEND;TZID=Europe/Paris:20260829T180000
DTSTAMP:20260421T005322
CREATED:20260420T094300Z
LAST-MODIFIED:20260420T094300Z
UID:10003870-1788001200-1788026400@leport.ch
SUMMARY:WEEK-END CAP SUR LES ENERGIES: Lectures personnalisées de tarot de Marseille
DESCRIPTION:
URL:https://leport.ch/event/week-end-cap-sur-les-energies-lectures-personnalisees-de-tarot-de-marseille-2/
CATEGORIES:Expériences Collectives
ATTACH;FMTTYPE=image/jpeg:https://leport.ch/wp-content/uploads/2026/02/tarot.jpg
END:VEVENT
BEGIN:VEVENT
DTSTART;TZID=Europe/Paris:20260831T110000
DTEND;TZID=Europe/Paris:20260831T210000
DTSTAMP:20260421T005322
CREATED:20260420T094141Z
LAST-MODIFIED:20260420T094141Z
UID:10003871-1788174000-1788210000@leport.ch
SUMMARY:WEEK-END CAP SUR LES ENERGIES: Lectures personnalisées de tarot de Marseille
DESCRIPTION:
URL:https://leport.ch/event/week-end-cap-sur-les-energies-lectures-personnalisees-de-tarot-de-marseille/
CATEGORIES:Expériences Collectives
ATTACH;FMTTYPE=image/jpeg:https://leport.ch/wp-content/uploads/2026/02/tarot.jpg
END:VEVENT
END:VCALENDAR